BEGIN:VCALENDAR
VERSION:2.0
PRODID:-//Visit Bocairent - Què veure a Bocairent - ECPv6.0.12//NONSGML v1.0//EN
CALSCALE:GREGORIAN
METHOD:PUBLISH
X-WR-CALNAME:Visit Bocairent - Què veure a Bocairent
X-ORIGINAL-URL:https://www.visitbocairent.es
X-WR-CALDESC:Esdeveniments per Visit Bocairent - Què veure a Bocairent
REFRESH-INTERVAL;VALUE=DURATION:PT1H
X-Robots-Tag:noindex
X-PUBLISHED-TTL:PT1H
BEGIN:VTIMEZONE
TZID:Europe/Madrid
BEGIN:DAYLIGHT
TZOFFSETFROM:+0100
TZOFFSETTO:+0200
TZNAME:CEST
DTSTART:20250330T010000
END:DAYLIGHT
BEGIN:STANDARD
TZOFFSETFROM:+0200
TZOFFSETTO:+0100
TZNAME:CET
DTSTART:20251026T010000
END:STANDARD
END:VTIMEZONE
BEGIN:VEVENT
DTSTART;TZID=Europe/Madrid:20250406T110000
DTEND;TZID=Europe/Madrid:20250406T120000
DTSTAMP:20260422T005204
CREATED:20250318T123044Z
LAST-MODIFIED:20250318T123126Z
UID:10002411-1743937200-1743940800@www.visitbocairent.es
SUMMARY:Visita a l'ermita del Sant Crist
DESCRIPTION:Visita a la Ermita del Santo Cristo\nVisit to the Hermitage of Sant Crist\nVisite à l’Ermitage de Sant Crist
URL:https://www.visitbocairent.es/visita/visita-a-lermita-del-sant-crist-118/
LOCATION:Ermita del Sant Crist\, Bocairent\, Valencia\, 46880\, Espanya
ATTACH;FMTTYPE=image/png:https://www.visitbocairent.es/wp-content/uploads/2022/11/sant-crist-aerea-AB.png
ORGANIZER;CN="Parr%C3%B2quia%20de%20Bocairent":MAILTO:info@visitbocairent.es
GEO:38.77343976183;-0.6101910953465
END:VEVENT
BEGIN:VEVENT
DTSTART;TZID=Europe/Madrid:20250413T110000
DTEND;TZID=Europe/Madrid:20250413T120000
DTSTAMP:20260422T005204
CREATED:20250318T123131Z
LAST-MODIFIED:20250318T123212Z
UID:10002412-1744542000-1744545600@www.visitbocairent.es
SUMMARY:Visita a l'ermita del Sant Crist
DESCRIPTION:Visita a la Ermita del Santo Cristo\nVisit to the Hermitage of Sant Crist\nVisite à l’Ermitage de Sant Crist
URL:https://www.visitbocairent.es/visita/visita-a-lermita-del-sant-crist-119/
LOCATION:Ermita del Sant Crist\, Bocairent\, Valencia\, 46880\, Espanya
ATTACH;FMTTYPE=image/png:https://www.visitbocairent.es/wp-content/uploads/2022/11/sant-crist-aerea-AB.png
ORGANIZER;CN="Parr%C3%B2quia%20de%20Bocairent":MAILTO:info@visitbocairent.es
GEO:38.77343976183;-0.6101910953465
END:VEVENT
BEGIN:VEVENT
DTSTART;TZID=Europe/Madrid:20250418T110000
DTEND;TZID=Europe/Madrid:20250418T120000
DTSTAMP:20260422T005204
CREATED:20250318T123216Z
LAST-MODIFIED:20250318T123248Z
UID:10002413-1744974000-1744977600@www.visitbocairent.es
SUMMARY:Visita a l'ermita del Sant Crist
DESCRIPTION:Visita a la Ermita del Santo Cristo\nVisit to the Hermitage of Sant Crist\nVisite à l’Ermitage de Sant Crist
URL:https://www.visitbocairent.es/visita/visita-a-lermita-del-sant-crist-120/
LOCATION:Ermita del Sant Crist\, Bocairent\, Valencia\, 46880\, Espanya
ATTACH;FMTTYPE=image/png:https://www.visitbocairent.es/wp-content/uploads/2022/11/sant-crist-aerea-AB.png
ORGANIZER;CN="Parr%C3%B2quia%20de%20Bocairent":MAILTO:info@visitbocairent.es
GEO:38.77343976183;-0.6101910953465
END:VEVENT
BEGIN:VEVENT
DTSTART;TZID=Europe/Madrid:20250420T110000
DTEND;TZID=Europe/Madrid:20250420T120000
DTSTAMP:20260422T005204
CREATED:20250318T123252Z
LAST-MODIFIED:20250318T123328Z
UID:10002414-1745146800-1745150400@www.visitbocairent.es
SUMMARY:Visita a l'ermita del Sant Crist
DESCRIPTION:Visita a la Ermita del Santo Cristo\nVisit to the Hermitage of Sant Crist\nVisite à l’Ermitage de Sant Crist
URL:https://www.visitbocairent.es/visita/visita-a-lermita-del-sant-crist-121/
LOCATION:Ermita del Sant Crist\, Bocairent\, Valencia\, 46880\, Espanya
ATTACH;FMTTYPE=image/png:https://www.visitbocairent.es/wp-content/uploads/2022/11/sant-crist-aerea-AB.png
ORGANIZER;CN="Parr%C3%B2quia%20de%20Bocairent":MAILTO:info@visitbocairent.es
GEO:38.77343976183;-0.6101910953465
END:VEVENT
BEGIN:VEVENT
DTSTART;TZID=Europe/Madrid:20250427T110000
DTEND;TZID=Europe/Madrid:20250427T120000
DTSTAMP:20260422T005204
CREATED:20250318T123332Z
LAST-MODIFIED:20250318T123402Z
UID:10002415-1745751600-1745755200@www.visitbocairent.es
SUMMARY:Visita a l'ermita del Sant Crist
DESCRIPTION:Visita a la Ermita del Santo Cristo\nVisit to the Hermitage of Sant Crist\nVisite à l’Ermitage de Sant Crist
URL:https://www.visitbocairent.es/visita/visita-a-lermita-del-sant-crist-122/
LOCATION:Ermita del Sant Crist\, Bocairent\, Valencia\, 46880\, Espanya
ATTACH;FMTTYPE=image/png:https://www.visitbocairent.es/wp-content/uploads/2022/11/sant-crist-aerea-AB.png
ORGANIZER;CN="Parr%C3%B2quia%20de%20Bocairent":MAILTO:info@visitbocairent.es
GEO:38.77343976183;-0.6101910953465
END:VEVENT
BEGIN:VEVENT
DTSTART;TZID=Europe/Madrid:20250504T110000
DTEND;TZID=Europe/Madrid:20250504T120000
DTSTAMP:20260422T005204
CREATED:20250502T153136Z
LAST-MODIFIED:20250502T153229Z
UID:10002533-1746356400-1746360000@www.visitbocairent.es
SUMMARY:Visita a l'ermita del Sant Crist
DESCRIPTION:Visita a la Ermita del Santo Cristo\nVisit to the Hermitage of Sant Crist\nVisite à l’Ermitage de Sant Crist
URL:https://www.visitbocairent.es/visita/visita-a-lermita-del-sant-crist-124/
LOCATION:Ermita del Sant Crist\, Bocairent\, Valencia\, 46880\, Espanya
ATTACH;FMTTYPE=image/png:https://www.visitbocairent.es/wp-content/uploads/2022/11/sant-crist-aerea-AB.png
ORGANIZER;CN="Parr%C3%B2quia%20de%20Bocairent":MAILTO:info@visitbocairent.es
GEO:38.77343976183;-0.6101910953465
END:VEVENT
BEGIN:VEVENT
DTSTART;TZID=Europe/Madrid:20250511T110000
DTEND;TZID=Europe/Madrid:20250511T120000
DTSTAMP:20260422T005204
CREATED:20250502T153253Z
LAST-MODIFIED:20250502T153318Z
UID:10002534-1746961200-1746964800@www.visitbocairent.es
SUMMARY:Visita a l'ermita del Sant Crist
DESCRIPTION:Visita a la Ermita del Santo Cristo\nVisit to the Hermitage of Sant Crist\nVisite à l’Ermitage de Sant Crist
URL:https://www.visitbocairent.es/visita/visita-a-lermita-del-sant-crist-125/
LOCATION:Ermita del Sant Crist\, Bocairent\, Valencia\, 46880\, Espanya
ATTACH;FMTTYPE=image/png:https://www.visitbocairent.es/wp-content/uploads/2022/11/sant-crist-aerea-AB.png
ORGANIZER;CN="Parr%C3%B2quia%20de%20Bocairent":MAILTO:info@visitbocairent.es
GEO:38.77343976183;-0.6101910953465
END:VEVENT
BEGIN:VEVENT
DTSTART;TZID=Europe/Madrid:20250518T110000
DTEND;TZID=Europe/Madrid:20250518T120000
DTSTAMP:20260422T005204
CREATED:20250502T153320Z
LAST-MODIFIED:20250502T153351Z
UID:10002535-1747566000-1747569600@www.visitbocairent.es
SUMMARY:Visita a l'ermita del Sant Crist
DESCRIPTION:Visita a la Ermita del Santo Cristo\nVisit to the Hermitage of Sant Crist\nVisite à l’Ermitage de Sant Crist
URL:https://www.visitbocairent.es/visita/visita-a-lermita-del-sant-crist-126/
LOCATION:Ermita del Sant Crist\, Bocairent\, Valencia\, 46880\, Espanya
ATTACH;FMTTYPE=image/png:https://www.visitbocairent.es/wp-content/uploads/2022/11/sant-crist-aerea-AB.png
ORGANIZER;CN="Parr%C3%B2quia%20de%20Bocairent":MAILTO:info@visitbocairent.es
GEO:38.77343976183;-0.6101910953465
END:VEVENT
BEGIN:VEVENT
DTSTART;TZID=Europe/Madrid:20250525T110000
DTEND;TZID=Europe/Madrid:20250525T120000
DTSTAMP:20260422T005204
CREATED:20250502T153353Z
LAST-MODIFIED:20250502T153424Z
UID:10002536-1748170800-1748174400@www.visitbocairent.es
SUMMARY:Visita a l'ermita del Sant Crist
DESCRIPTION:Visita a la Ermita del Santo Cristo\nVisit to the Hermitage of Sant Crist\nVisite à l’Ermitage de Sant Crist
URL:https://www.visitbocairent.es/visita/visita-a-lermita-del-sant-crist-127/
LOCATION:Ermita del Sant Crist\, Bocairent\, Valencia\, 46880\, Espanya
ATTACH;FMTTYPE=image/png:https://www.visitbocairent.es/wp-content/uploads/2022/11/sant-crist-aerea-AB.png
ORGANIZER;CN="Parr%C3%B2quia%20de%20Bocairent":MAILTO:info@visitbocairent.es
GEO:38.77343976183;-0.6101910953465
END:VEVENT
BEGIN:VEVENT
DTSTART;TZID=Europe/Madrid:20250601T110000
DTEND;TZID=Europe/Madrid:20250601T120000
DTSTAMP:20260422T005204
CREATED:20250502T153427Z
LAST-MODIFIED:20250502T153452Z
UID:10002537-1748775600-1748779200@www.visitbocairent.es
SUMMARY:Visita a l'ermita del Sant Crist
DESCRIPTION:Visita a la Ermita del Santo Cristo\nVisit to the Hermitage of Sant Crist\nVisite à l’Ermitage de Sant Crist
URL:https://www.visitbocairent.es/visita/visita-a-lermita-del-sant-crist-128/
LOCATION:Ermita del Sant Crist\, Bocairent\, Valencia\, 46880\, Espanya
ATTACH;FMTTYPE=image/png:https://www.visitbocairent.es/wp-content/uploads/2022/11/sant-crist-aerea-AB.png
ORGANIZER;CN="Parr%C3%B2quia%20de%20Bocairent":MAILTO:info@visitbocairent.es
GEO:38.77343976183;-0.6101910953465
END:VEVENT
BEGIN:VEVENT
DTSTART;TZID=Europe/Madrid:20250608T110000
DTEND;TZID=Europe/Madrid:20250608T120000
DTSTAMP:20260422T005204
CREATED:20250502T153454Z
LAST-MODIFIED:20250502T153528Z
UID:10002538-1749380400-1749384000@www.visitbocairent.es
SUMMARY:Visita a l'ermita del Sant Crist
DESCRIPTION:Visita a la Ermita del Santo Cristo\nVisit to the Hermitage of Sant Crist\nVisite à l’Ermitage de Sant Crist
URL:https://www.visitbocairent.es/visita/visita-a-lermita-del-sant-crist-129/
LOCATION:Ermita del Sant Crist\, Bocairent\, Valencia\, 46880\, Espanya
ATTACH;FMTTYPE=image/png:https://www.visitbocairent.es/wp-content/uploads/2022/11/sant-crist-aerea-AB.png
ORGANIZER;CN="Parr%C3%B2quia%20de%20Bocairent":MAILTO:info@visitbocairent.es
GEO:38.77343976183;-0.6101910953465
END:VEVENT
BEGIN:VEVENT
DTSTART;TZID=Europe/Madrid:20250615T110000
DTEND;TZID=Europe/Madrid:20250615T120000
DTSTAMP:20260422T005204
CREATED:20250502T153531Z
LAST-MODIFIED:20250502T153558Z
UID:10002539-1749985200-1749988800@www.visitbocairent.es
SUMMARY:Visita a l'ermita del Sant Crist
DESCRIPTION:Visita a la Ermita del Santo Cristo\nVisit to the Hermitage of Sant Crist\nVisite à l’Ermitage de Sant Crist
URL:https://www.visitbocairent.es/visita/visita-a-lermita-del-sant-crist-130/
LOCATION:Ermita del Sant Crist\, Bocairent\, Valencia\, 46880\, Espanya
ATTACH;FMTTYPE=image/png:https://www.visitbocairent.es/wp-content/uploads/2022/11/sant-crist-aerea-AB.png
ORGANIZER;CN="Parr%C3%B2quia%20de%20Bocairent":MAILTO:info@visitbocairent.es
GEO:38.77343976183;-0.6101910953465
END:VEVENT
BEGIN:VEVENT
DTSTART;TZID=Europe/Madrid:20250622T110000
DTEND;TZID=Europe/Madrid:20250622T120000
DTSTAMP:20260422T005204
CREATED:20250502T153601Z
LAST-MODIFIED:20250502T153729Z
UID:10002540-1750590000-1750593600@www.visitbocairent.es
SUMMARY:Visita a l'ermita del Sant Crist
DESCRIPTION:Visita a la Ermita del Santo Cristo\nVisit to the Hermitage of Sant Crist\nVisite à l’Ermitage de Sant Crist
URL:https://www.visitbocairent.es/visita/visita-a-lermita-del-sant-crist-131/
LOCATION:Ermita del Sant Crist\, Bocairent\, Valencia\, 46880\, Espanya
ATTACH;FMTTYPE=image/png:https://www.visitbocairent.es/wp-content/uploads/2022/11/sant-crist-aerea-AB.png
ORGANIZER;CN="Parr%C3%B2quia%20de%20Bocairent":MAILTO:info@visitbocairent.es
GEO:38.77343976183;-0.6101910953465
END:VEVENT
BEGIN:VEVENT
DTSTART;TZID=Europe/Madrid:20250629T110000
DTEND;TZID=Europe/Madrid:20250629T120000
DTSTAMP:20260422T005204
CREATED:20250502T153630Z
LAST-MODIFIED:20250502T153657Z
UID:10002541-1751194800-1751198400@www.visitbocairent.es
SUMMARY:Visita a l'ermita del Sant Crist
DESCRIPTION:Visita a la Ermita del Santo Cristo\nVisit to the Hermitage of Sant Crist\nVisite à l’Ermitage de Sant Crist
URL:https://www.visitbocairent.es/visita/visita-a-lermita-del-sant-crist-132/
LOCATION:Ermita del Sant Crist\, Bocairent\, Valencia\, 46880\, Espanya
ATTACH;FMTTYPE=image/png:https://www.visitbocairent.es/wp-content/uploads/2022/11/sant-crist-aerea-AB.png
ORGANIZER;CN="Parr%C3%B2quia%20de%20Bocairent":MAILTO:info@visitbocairent.es
GEO:38.77343976183;-0.6101910953465
END:VEVENT
BEGIN:VEVENT
DTSTART;TZID=Europe/Madrid:20250720T110000
DTEND;TZID=Europe/Madrid:20250720T120000
DTSTAMP:20260422T005204
CREATED:20250716T152635Z
LAST-MODIFIED:20250716T152750Z
UID:10002616-1753009200-1753012800@www.visitbocairent.es
SUMMARY:Visita a l'ermita del Sant Crist
DESCRIPTION:Visita a la Ermita del Santo Cristo\nVisit to the Hermitage of Sant Crist\nVisite à l’Ermitage de Sant Crist
URL:https://www.visitbocairent.es/visita/visita-a-lermita-del-sant-crist-134/
LOCATION:Ermita del Sant Crist\, Bocairent\, Valencia\, 46880\, Espanya
ATTACH;FMTTYPE=image/png:https://www.visitbocairent.es/wp-content/uploads/2022/11/sant-crist-aerea-AB.png
ORGANIZER;CN="Parr%C3%B2quia%20de%20Bocairent":MAILTO:info@visitbocairent.es
GEO:38.77343976183;-0.6101910953465
END:VEVENT
BEGIN:VEVENT
DTSTART;TZID=Europe/Madrid:20250727T110000
DTEND;TZID=Europe/Madrid:20250727T120000
DTSTAMP:20260422T005204
CREATED:20250716T152756Z
LAST-MODIFIED:20250716T152837Z
UID:10002617-1753614000-1753617600@www.visitbocairent.es
SUMMARY:Visita a l'ermita del Sant Crist
DESCRIPTION:Visita a la Ermita del Santo Cristo\nVisit to the Hermitage of Sant Crist\nVisite à l’Ermitage de Sant Crist
URL:https://www.visitbocairent.es/visita/visita-a-lermita-del-sant-crist-135/
LOCATION:Ermita del Sant Crist\, Bocairent\, Valencia\, 46880\, Espanya
ATTACH;FMTTYPE=image/png:https://www.visitbocairent.es/wp-content/uploads/2022/11/sant-crist-aerea-AB.png
ORGANIZER;CN="Parr%C3%B2quia%20de%20Bocairent":MAILTO:info@visitbocairent.es
GEO:38.77343976183;-0.6101910953465
END:VEVENT
BEGIN:VEVENT
DTSTART;TZID=Europe/Madrid:20250803T110000
DTEND;TZID=Europe/Madrid:20250803T120000
DTSTAMP:20260422T005204
CREATED:20250716T152843Z
LAST-MODIFIED:20250716T152921Z
UID:10002618-1754218800-1754222400@www.visitbocairent.es
SUMMARY:Visita a l'ermita del Sant Crist
DESCRIPTION:Visita a la Ermita del Santo Cristo\nVisit to the Hermitage of Sant Crist\nVisite à l’Ermitage de Sant Crist
URL:https://www.visitbocairent.es/visita/visita-a-lermita-del-sant-crist-136/
LOCATION:Ermita del Sant Crist\, Bocairent\, Valencia\, 46880\, Espanya
ATTACH;FMTTYPE=image/png:https://www.visitbocairent.es/wp-content/uploads/2022/11/sant-crist-aerea-AB.png
ORGANIZER;CN="Parr%C3%B2quia%20de%20Bocairent":MAILTO:info@visitbocairent.es
GEO:38.77343976183;-0.6101910953465
END:VEVENT
BEGIN:VEVENT
DTSTART;TZID=Europe/Madrid:20250810T110000
DTEND;TZID=Europe/Madrid:20250810T120000
DTSTAMP:20260422T005204
CREATED:20250716T152924Z
LAST-MODIFIED:20250716T153004Z
UID:10002619-1754823600-1754827200@www.visitbocairent.es
SUMMARY:Visita a l'ermita del Sant Crist
DESCRIPTION:Visita a la Ermita del Santo Cristo\nVisit to the Hermitage of Sant Crist\nVisite à l’Ermitage de Sant Crist
URL:https://www.visitbocairent.es/visita/visita-a-lermita-del-sant-crist-137/
LOCATION:Ermita del Sant Crist\, Bocairent\, Valencia\, 46880\, Espanya
ATTACH;FMTTYPE=image/png:https://www.visitbocairent.es/wp-content/uploads/2022/11/sant-crist-aerea-AB.png
ORGANIZER;CN="Parr%C3%B2quia%20de%20Bocairent":MAILTO:info@visitbocairent.es
GEO:38.77343976183;-0.6101910953465
END:VEVENT
BEGIN:VEVENT
DTSTART;TZID=Europe/Madrid:20250817T110000
DTEND;TZID=Europe/Madrid:20250817T120000
DTSTAMP:20260422T005204
CREATED:20250716T153008Z
LAST-MODIFIED:20250716T153052Z
UID:10002620-1755428400-1755432000@www.visitbocairent.es
SUMMARY:Visita a l'ermita del Sant Crist
DESCRIPTION:Visita a la Ermita del Santo Cristo\nVisit to the Hermitage of Sant Crist\nVisite à l’Ermitage de Sant Crist
URL:https://www.visitbocairent.es/visita/visita-a-lermita-del-sant-crist-138/
LOCATION:Ermita del Sant Crist\, Bocairent\, Valencia\, 46880\, Espanya
ATTACH;FMTTYPE=image/png:https://www.visitbocairent.es/wp-content/uploads/2022/11/sant-crist-aerea-AB.png
ORGANIZER;CN="Parr%C3%B2quia%20de%20Bocairent":MAILTO:info@visitbocairent.es
GEO:38.77343976183;-0.6101910953465
END:VEVENT
BEGIN:VEVENT
DTSTART;TZID=Europe/Madrid:20250824T110000
DTEND;TZID=Europe/Madrid:20250824T120000
DTSTAMP:20260422T005204
CREATED:20250716T153058Z
LAST-MODIFIED:20250716T153136Z
UID:10002621-1756033200-1756036800@www.visitbocairent.es
SUMMARY:Visita a l'ermita del Sant Crist
DESCRIPTION:Visita a la Ermita del Santo Cristo\nVisit to the Hermitage of Sant Crist\nVisite à l’Ermitage de Sant Crist
URL:https://www.visitbocairent.es/visita/visita-a-lermita-del-sant-crist-139/
LOCATION:Ermita del Sant Crist\, Bocairent\, Valencia\, 46880\, Espanya
ATTACH;FMTTYPE=image/png:https://www.visitbocairent.es/wp-content/uploads/2022/11/sant-crist-aerea-AB.png
ORGANIZER;CN="Parr%C3%B2quia%20de%20Bocairent":MAILTO:info@visitbocairent.es
GEO:38.77343976183;-0.6101910953465
END:VEVENT
BEGIN:VEVENT
DTSTART;TZID=Europe/Madrid:20250831T110000
DTEND;TZID=Europe/Madrid:20250831T120000
DTSTAMP:20260422T005204
CREATED:20250716T153139Z
LAST-MODIFIED:20250829T132206Z
UID:10002622-1756638000-1756641600@www.visitbocairent.es
SUMMARY:Visita a l'ermita del Sant Crist
DESCRIPTION:Visita a la Ermita del Santo Cristo\nVisit to the Hermitage of Sant Crist\nVisite à l’Ermitage de Sant Crist
URL:https://www.visitbocairent.es/visita/visita-a-lermita-del-sant-crist-140/
LOCATION:Ermita del Sant Crist\, Bocairent\, Valencia\, 46880\, Espanya
ATTACH;FMTTYPE=image/png:https://www.visitbocairent.es/wp-content/uploads/2022/11/sant-crist-aerea-AB.png
ORGANIZER;CN="Parr%C3%B2quia%20de%20Bocairent":MAILTO:info@visitbocairent.es
GEO:38.77343976183;-0.6101910953465
END:VEVENT
BEGIN:VEVENT
DTSTART;TZID=Europe/Madrid:20250907T110000
DTEND;TZID=Europe/Madrid:20250907T120000
DTSTAMP:20260422T005204
CREATED:20250901T092453Z
LAST-MODIFIED:20250901T092529Z
UID:10002758-1757242800-1757246400@www.visitbocairent.es
SUMMARY:Visita a l'ermita del Sant Crist
DESCRIPTION:Visita a la Ermita del Santo Cristo\nVisit to the Hermitage of Sant Crist\nVisite à l’Ermitage de Sant Crist
URL:https://www.visitbocairent.es/visita/visita-a-lermita-del-sant-crist-142/
LOCATION:Ermita del Sant Crist\, Bocairent\, Valencia\, 46880\, Espanya
ATTACH;FMTTYPE=image/png:https://www.visitbocairent.es/wp-content/uploads/2022/11/sant-crist-aerea-AB.png
ORGANIZER;CN="Parr%C3%B2quia%20de%20Bocairent":MAILTO:info@visitbocairent.es
GEO:38.77343976183;-0.6101910953465
END:VEVENT
BEGIN:VEVENT
DTSTART;TZID=Europe/Madrid:20250914T110000
DTEND;TZID=Europe/Madrid:20250914T120000
DTSTAMP:20260422T005204
CREATED:20250901T092532Z
LAST-MODIFIED:20250901T093302Z
UID:10002759-1757847600-1757851200@www.visitbocairent.es
SUMMARY:Visita a l'ermita del Sant Crist
DESCRIPTION:Visita a la Ermita del Santo Cristo\nVisit to the Hermitage of Sant Crist\nVisite à l’Ermitage de Sant Crist
URL:https://www.visitbocairent.es/visita/visita-a-lermita-del-sant-crist-143/
LOCATION:Ermita del Sant Crist\, Bocairent\, Valencia\, 46880\, Espanya
ATTACH;FMTTYPE=image/png:https://www.visitbocairent.es/wp-content/uploads/2022/11/sant-crist-aerea-AB.png
ORGANIZER;CN="Parr%C3%B2quia%20de%20Bocairent":MAILTO:info@visitbocairent.es
GEO:38.77343976183;-0.6101910953465
END:VEVENT
BEGIN:VEVENT
DTSTART;TZID=Europe/Madrid:20250921T110000
DTEND;TZID=Europe/Madrid:20250921T120000
DTSTAMP:20260422T005204
CREATED:20250901T093029Z
LAST-MODIFIED:20250901T093224Z
UID:10002760-1758452400-1758456000@www.visitbocairent.es
SUMMARY:Visita a l'ermita del Sant Crist
DESCRIPTION:Visita a la Ermita del Santo Cristo\nVisit to the Hermitage of Sant Crist\nVisite à l’Ermitage de Sant Crist
URL:https://www.visitbocairent.es/visita/visita-a-lermita-del-sant-crist-144/
LOCATION:Ermita del Sant Crist\, Bocairent\, Valencia\, 46880\, Espanya
ATTACH;FMTTYPE=image/png:https://www.visitbocairent.es/wp-content/uploads/2022/11/sant-crist-aerea-AB.png
ORGANIZER;CN="Parr%C3%B2quia%20de%20Bocairent":MAILTO:info@visitbocairent.es
GEO:38.77343976183;-0.6101910953465
END:VEVENT
BEGIN:VEVENT
DTSTART;TZID=Europe/Madrid:20250928T110000
DTEND;TZID=Europe/Madrid:20250928T120000
DTSTAMP:20260422T005204
CREATED:20250901T093115Z
LAST-MODIFIED:20250901T093155Z
UID:10002761-1759057200-1759060800@www.visitbocairent.es
SUMMARY:Visita a l'ermita del Sant Crist
DESCRIPTION:Visita a la Ermita del Santo Cristo\nVisit to the Hermitage of Sant Crist\nVisite à l’Ermitage de Sant Crist
URL:https://www.visitbocairent.es/visita/visita-a-lermita-del-sant-crist-145/
LOCATION:Ermita del Sant Crist\, Bocairent\, Valencia\, 46880\, Espanya
ATTACH;FMTTYPE=image/png:https://www.visitbocairent.es/wp-content/uploads/2022/11/sant-crist-aerea-AB.png
ORGANIZER;CN="Parr%C3%B2quia%20de%20Bocairent":MAILTO:info@visitbocairent.es
GEO:38.77343976183;-0.6101910953465
END:VEVENT
BEGIN:VEVENT
DTSTART;TZID=Europe/Madrid:20251005T110000
DTEND;TZID=Europe/Madrid:20251005T120000
DTSTAMP:20260422T005204
CREATED:20251001T124614Z
LAST-MODIFIED:20251001T124654Z
UID:10002762-1759662000-1759665600@www.visitbocairent.es
SUMMARY:Visita a l'ermita del Sant Crist
DESCRIPTION:Visita a la Ermita del Santo Cristo\nVisit to the Hermitage of Sant Crist\nVisite à l’Ermitage de Sant Crist
URL:https://www.visitbocairent.es/visita/visita-a-lermita-del-sant-crist-146/
LOCATION:Ermita del Sant Crist\, Bocairent\, Valencia\, 46880\, Espanya
ATTACH;FMTTYPE=image/png:https://www.visitbocairent.es/wp-content/uploads/2022/11/sant-crist-aerea-AB.png
ORGANIZER;CN="Parr%C3%B2quia%20de%20Bocairent":MAILTO:info@visitbocairent.es
GEO:38.77343976183;-0.6101910953465
END:VEVENT
BEGIN:VEVENT
DTSTART;TZID=Europe/Madrid:20251012T110000
DTEND;TZID=Europe/Madrid:20251012T120000
DTSTAMP:20260422T005204
CREATED:20251001T124701Z
LAST-MODIFIED:20251001T124735Z
UID:10002763-1760266800-1760270400@www.visitbocairent.es
SUMMARY:Visita a l'ermita del Sant Crist
DESCRIPTION:Visita a la Ermita del Santo Cristo\nVisit to the Hermitage of Sant Crist\nVisite à l’Ermitage de Sant Crist
URL:https://www.visitbocairent.es/visita/visita-a-lermita-del-sant-crist-147/
LOCATION:Ermita del Sant Crist\, Bocairent\, Valencia\, 46880\, Espanya
ATTACH;FMTTYPE=image/png:https://www.visitbocairent.es/wp-content/uploads/2022/11/sant-crist-aerea-AB.png
ORGANIZER;CN="Parr%C3%B2quia%20de%20Bocairent":MAILTO:info@visitbocairent.es
GEO:38.77343976183;-0.6101910953465
END:VEVENT
BEGIN:VEVENT
DTSTART;TZID=Europe/Madrid:20251019T110000
DTEND;TZID=Europe/Madrid:20251019T120000
DTSTAMP:20260422T005204
CREATED:20251001T124739Z
LAST-MODIFIED:20251001T124819Z
UID:10002764-1760871600-1760875200@www.visitbocairent.es
SUMMARY:Visita a l'ermita del Sant Crist
DESCRIPTION:Visita a la Ermita del Santo Cristo\nVisit to the Hermitage of Sant Crist\nVisite à l’Ermitage de Sant Crist
URL:https://www.visitbocairent.es/visita/visita-a-lermita-del-sant-crist-148/
LOCATION:Ermita del Sant Crist\, Bocairent\, Valencia\, 46880\, Espanya
ATTACH;FMTTYPE=image/png:https://www.visitbocairent.es/wp-content/uploads/2022/11/sant-crist-aerea-AB.png
ORGANIZER;CN="Parr%C3%B2quia%20de%20Bocairent":MAILTO:info@visitbocairent.es
GEO:38.77343976183;-0.6101910953465
END:VEVENT
BEGIN:VEVENT
DTSTART;TZID=Europe/Madrid:20251026T110000
DTEND;TZID=Europe/Madrid:20251026T120000
DTSTAMP:20260422T005204
CREATED:20251001T124825Z
LAST-MODIFIED:20251001T124940Z
UID:10002765-1761476400-1761480000@www.visitbocairent.es
SUMMARY:Visita a l'ermita del Sant Crist
DESCRIPTION:Visita a la Ermita del Santo Cristo\nVisit to the Hermitage of Sant Crist\nVisite à l’Ermitage de Sant Crist
URL:https://www.visitbocairent.es/visita/visita-a-lermita-del-sant-crist-149/
LOCATION:Ermita del Sant Crist\, Bocairent\, Valencia\, 46880\, Espanya
ATTACH;FMTTYPE=image/png:https://www.visitbocairent.es/wp-content/uploads/2022/11/sant-crist-aerea-AB.png
ORGANIZER;CN="Parr%C3%B2quia%20de%20Bocairent":MAILTO:info@visitbocairent.es
GEO:38.77343976183;-0.6101910953465
END:VEVENT
BEGIN:VEVENT
DTSTART;TZID=Europe/Madrid:20251102T110000
DTEND;TZID=Europe/Madrid:20251102T120000
DTSTAMP:20260422T005204
CREATED:20251030T120131Z
LAST-MODIFIED:20251030T120208Z
UID:10002766-1762081200-1762084800@www.visitbocairent.es
SUMMARY:Visita a l'ermita del Sant Crist
DESCRIPTION:Visita a la Ermita del Santo Cristo\nVisit to the Hermitage of Sant Crist\nVisite à l’Ermitage de Sant Crist
URL:https://www.visitbocairent.es/visita/visita-a-lermita-del-sant-crist-150/
LOCATION:Ermita del Sant Crist\, Bocairent\, Valencia\, 46880\, Espanya
ATTACH;FMTTYPE=image/png:https://www.visitbocairent.es/wp-content/uploads/2022/11/sant-crist-aerea-AB.png
ORGANIZER;CN="Parr%C3%B2quia%20de%20Bocairent":MAILTO:info@visitbocairent.es
GEO:38.77343976183;-0.6101910953465
END:VEVENT
END:VCALENDAR