BEGIN:VCALENDAR
VERSION:2.0
PRODID:-//Visit Bocairent - Què veure a Bocairent - ECPv6.0.12//NONSGML v1.0//EN
CALSCALE:GREGORIAN
METHOD:PUBLISH
X-WR-CALNAME:Visit Bocairent - Què veure a Bocairent
X-ORIGINAL-URL:https://www.visitbocairent.es
X-WR-CALDESC:Esdeveniments per Visit Bocairent - Què veure a Bocairent
REFRESH-INTERVAL;VALUE=DURATION:PT1H
X-Robots-Tag:noindex
X-PUBLISHED-TTL:PT1H
BEGIN:VTIMEZONE
TZID:Europe/Madrid
BEGIN:DAYLIGHT
TZOFFSETFROM:+0100
TZOFFSETTO:+0200
TZNAME:CEST
DTSTART:20240331T010000
END:DAYLIGHT
BEGIN:STANDARD
TZOFFSETFROM:+0200
TZOFFSETTO:+0100
TZNAME:CET
DTSTART:20241027T010000
END:STANDARD
BEGIN:DAYLIGHT
TZOFFSETFROM:+0100
TZOFFSETTO:+0200
TZNAME:CEST
DTSTART:20250330T010000
END:DAYLIGHT
BEGIN:STANDARD
TZOFFSETFROM:+0200
TZOFFSETTO:+0100
TZNAME:CET
DTSTART:20251026T010000
END:STANDARD
END:VTIMEZONE
BEGIN:VEVENT
DTSTART;TZID=Europe/Madrid:20240915T110000
DTEND;TZID=Europe/Madrid:20240915T120000
DTSTAMP:20260421T232915
CREATED:20240904T114822Z
LAST-MODIFIED:20240904T114854Z
UID:10002156-1726398000-1726401600@www.visitbocairent.es
SUMMARY:Visita a l'ermita del Sant Crist
DESCRIPTION:Visita a la Ermita del Santo Cristo\nVisit to the Hermitage of Sant Crist\nVisite à l’Ermitage de Sant Crist
URL:https://www.visitbocairent.es/visita/visita-a-lermita-del-sant-crist-90/
LOCATION:Ermita del Sant Crist\, Bocairent\, Valencia\, 46880\, Espanya
ATTACH;FMTTYPE=image/png:https://www.visitbocairent.es/wp-content/uploads/2022/11/sant-crist-aerea-AB.png
ORGANIZER;CN="Parr%C3%B2quia%20de%20Bocairent":MAILTO:info@visitbocairent.es
GEO:38.77343976183;-0.6101910953465
END:VEVENT
BEGIN:VEVENT
DTSTART;TZID=Europe/Madrid:20240922T110000
DTEND;TZID=Europe/Madrid:20240922T120000
DTSTAMP:20260421T232915
CREATED:20240904T114857Z
LAST-MODIFIED:20240904T114927Z
UID:10002157-1727002800-1727006400@www.visitbocairent.es
SUMMARY:Visita a l'ermita del Sant Crist
DESCRIPTION:Visita a la Ermita del Santo Cristo\nVisit to the Hermitage of Sant Crist\nVisite à l’Ermitage de Sant Crist
URL:https://www.visitbocairent.es/visita/visita-a-lermita-del-sant-crist-91/
LOCATION:Ermita del Sant Crist\, Bocairent\, Valencia\, 46880\, Espanya
ATTACH;FMTTYPE=image/png:https://www.visitbocairent.es/wp-content/uploads/2022/11/sant-crist-aerea-AB.png
ORGANIZER;CN="Parr%C3%B2quia%20de%20Bocairent":MAILTO:info@visitbocairent.es
GEO:38.77343976183;-0.6101910953465
END:VEVENT
BEGIN:VEVENT
DTSTART;TZID=Europe/Madrid:20240929T110000
DTEND;TZID=Europe/Madrid:20240929T120000
DTSTAMP:20260421T232915
CREATED:20240904T114930Z
LAST-MODIFIED:20240904T115000Z
UID:10002158-1727607600-1727611200@www.visitbocairent.es
SUMMARY:Visita a l'ermita del Sant Crist
DESCRIPTION:Visita a la Ermita del Santo Cristo\nVisit to the Hermitage of Sant Crist\nVisite à l’Ermitage de Sant Crist
URL:https://www.visitbocairent.es/visita/visita-a-lermita-del-sant-crist-92/
LOCATION:Ermita del Sant Crist\, Bocairent\, Valencia\, 46880\, Espanya
ATTACH;FMTTYPE=image/png:https://www.visitbocairent.es/wp-content/uploads/2022/11/sant-crist-aerea-AB.png
ORGANIZER;CN="Parr%C3%B2quia%20de%20Bocairent":MAILTO:info@visitbocairent.es
GEO:38.77343976183;-0.6101910953465
END:VEVENT
BEGIN:VEVENT
DTSTART;TZID=Europe/Madrid:20241006T110000
DTEND;TZID=Europe/Madrid:20241006T120000
DTSTAMP:20260421T232915
CREATED:20240904T115004Z
LAST-MODIFIED:20240904T115033Z
UID:10002159-1728212400-1728216000@www.visitbocairent.es
SUMMARY:Visita a l'ermita del Sant Crist
DESCRIPTION:Visita a la Ermita del Santo Cristo\nVisit to the Hermitage of Sant Crist\nVisite à l’Ermitage de Sant Crist
URL:https://www.visitbocairent.es/visita/visita-a-lermita-del-sant-crist-93/
LOCATION:Ermita del Sant Crist\, Bocairent\, Valencia\, 46880\, Espanya
ATTACH;FMTTYPE=image/png:https://www.visitbocairent.es/wp-content/uploads/2022/11/sant-crist-aerea-AB.png
ORGANIZER;CN="Parr%C3%B2quia%20de%20Bocairent":MAILTO:info@visitbocairent.es
GEO:38.77343976183;-0.6101910953465
END:VEVENT
BEGIN:VEVENT
DTSTART;TZID=Europe/Madrid:20241013T110000
DTEND;TZID=Europe/Madrid:20241013T120000
DTSTAMP:20260421T232915
CREATED:20240904T115036Z
LAST-MODIFIED:20240904T115312Z
UID:10002160-1728817200-1728820800@www.visitbocairent.es
SUMMARY:Visita a l'ermita del Sant Crist
DESCRIPTION:Visita a la Ermita del Santo Cristo\nVisit to the Hermitage of Sant Crist\nVisite à l’Ermitage de Sant Crist
URL:https://www.visitbocairent.es/visita/visita-a-lermita-del-sant-crist-94/
LOCATION:Ermita del Sant Crist\, Bocairent\, Valencia\, 46880\, Espanya
ATTACH;FMTTYPE=image/png:https://www.visitbocairent.es/wp-content/uploads/2022/11/sant-crist-aerea-AB.png
ORGANIZER;CN="Parr%C3%B2quia%20de%20Bocairent":MAILTO:info@visitbocairent.es
GEO:38.77343976183;-0.6101910953465
END:VEVENT
BEGIN:VEVENT
DTSTART;TZID=Europe/Madrid:20241020T110000
DTEND;TZID=Europe/Madrid:20241020T120000
DTSTAMP:20260421T232915
CREATED:20240904T115114Z
LAST-MODIFIED:20240904T115141Z
UID:10002161-1729422000-1729425600@www.visitbocairent.es
SUMMARY:Visita a l'ermita del Sant Crist
DESCRIPTION:Visita a la Ermita del Santo Cristo\nVisit to the Hermitage of Sant Crist\nVisite à l’Ermitage de Sant Crist
URL:https://www.visitbocairent.es/visita/visita-a-lermita-del-sant-crist-95/
LOCATION:Ermita del Sant Crist\, Bocairent\, Valencia\, 46880\, Espanya
ATTACH;FMTTYPE=image/png:https://www.visitbocairent.es/wp-content/uploads/2022/11/sant-crist-aerea-AB.png
ORGANIZER;CN="Parr%C3%B2quia%20de%20Bocairent":MAILTO:info@visitbocairent.es
GEO:38.77343976183;-0.6101910953465
END:VEVENT
BEGIN:VEVENT
DTSTART;TZID=Europe/Madrid:20241027T110000
DTEND;TZID=Europe/Madrid:20241027T120000
DTSTAMP:20260421T232915
CREATED:20240904T115145Z
LAST-MODIFIED:20240904T115318Z
UID:10002162-1730026800-1730030400@www.visitbocairent.es
SUMMARY:Visita a l'ermita del Sant Crist
DESCRIPTION:Visita a la Ermita del Santo Cristo\nVisit to the Hermitage of Sant Crist\nVisite à l’Ermitage de Sant Crist
URL:https://www.visitbocairent.es/visita/visita-a-lermita-del-sant-crist-96/
LOCATION:Ermita del Sant Crist\, Bocairent\, Valencia\, 46880\, Espanya
ATTACH;FMTTYPE=image/png:https://www.visitbocairent.es/wp-content/uploads/2022/11/sant-crist-aerea-AB.png
ORGANIZER;CN="Parr%C3%B2quia%20de%20Bocairent":MAILTO:info@visitbocairent.es
GEO:38.77343976183;-0.6101910953465
END:VEVENT
BEGIN:VEVENT
DTSTART;TZID=Europe/Madrid:20241103T110000
DTEND;TZID=Europe/Madrid:20241103T120000
DTSTAMP:20260421T232915
CREATED:20240904T115214Z
LAST-MODIFIED:20240904T115246Z
UID:10002163-1730631600-1730635200@www.visitbocairent.es
SUMMARY:Visita a l'ermita del Sant Crist
DESCRIPTION:Visita a la Ermita del Santo Cristo\nVisit to the Hermitage of Sant Crist\nVisite à l’Ermitage de Sant Crist
URL:https://www.visitbocairent.es/visita/visita-a-lermita-del-sant-crist-97/
LOCATION:Ermita del Sant Crist\, Bocairent\, Valencia\, 46880\, Espanya
ATTACH;FMTTYPE=image/png:https://www.visitbocairent.es/wp-content/uploads/2022/11/sant-crist-aerea-AB.png
ORGANIZER;CN="Parr%C3%B2quia%20de%20Bocairent":MAILTO:info@visitbocairent.es
GEO:38.77343976183;-0.6101910953465
END:VEVENT
BEGIN:VEVENT
DTSTART;TZID=Europe/Madrid:20241110T110000
DTEND;TZID=Europe/Madrid:20241110T120000
DTSTAMP:20260421T232915
CREATED:20241106T095403Z
LAST-MODIFIED:20241106T095436Z
UID:10002244-1731236400-1731240000@www.visitbocairent.es
SUMMARY:Visita a l'ermita del Sant Crist
DESCRIPTION:Visita a la Ermita del Santo Cristo\nVisit to the Hermitage of Sant Crist\nVisite à l’Ermitage de Sant Crist
URL:https://www.visitbocairent.es/visita/visita-a-lermita-del-sant-crist-99/
LOCATION:Ermita del Sant Crist\, Bocairent\, Valencia\, 46880\, Espanya
ATTACH;FMTTYPE=image/png:https://www.visitbocairent.es/wp-content/uploads/2022/11/sant-crist-aerea-AB.png
ORGANIZER;CN="Parr%C3%B2quia%20de%20Bocairent":MAILTO:info@visitbocairent.es
GEO:38.77343976183;-0.6101910953465
END:VEVENT
BEGIN:VEVENT
DTSTART;TZID=Europe/Madrid:20241117T110000
DTEND;TZID=Europe/Madrid:20241117T120000
DTSTAMP:20260421T232915
CREATED:20241106T095443Z
LAST-MODIFIED:20241106T095521Z
UID:10002245-1731841200-1731844800@www.visitbocairent.es
SUMMARY:Visita a l'ermita del Sant Crist
DESCRIPTION:Visita a la Ermita del Santo Cristo\nVisit to the Hermitage of Sant Crist\nVisite à l’Ermitage de Sant Crist
URL:https://www.visitbocairent.es/visita/visita-a-lermita-del-sant-crist-100/
LOCATION:Ermita del Sant Crist\, Bocairent\, Valencia\, 46880\, Espanya
ATTACH;FMTTYPE=image/png:https://www.visitbocairent.es/wp-content/uploads/2022/11/sant-crist-aerea-AB.png
ORGANIZER;CN="Parr%C3%B2quia%20de%20Bocairent":MAILTO:info@visitbocairent.es
GEO:38.77343976183;-0.6101910953465
END:VEVENT
BEGIN:VEVENT
DTSTART;TZID=Europe/Madrid:20241124T110000
DTEND;TZID=Europe/Madrid:20241124T120000
DTSTAMP:20260421T232915
CREATED:20241106T095526Z
LAST-MODIFIED:20241106T095608Z
UID:10002246-1732446000-1732449600@www.visitbocairent.es
SUMMARY:Visita a l'ermita del Sant Crist
DESCRIPTION:Visita a la Ermita del Santo Cristo\nVisit to the Hermitage of Sant Crist\nVisite à l’Ermitage de Sant Crist
URL:https://www.visitbocairent.es/visita/visita-a-lermita-del-sant-crist-101/
LOCATION:Ermita del Sant Crist\, Bocairent\, Valencia\, 46880\, Espanya
ATTACH;FMTTYPE=image/png:https://www.visitbocairent.es/wp-content/uploads/2022/11/sant-crist-aerea-AB.png
ORGANIZER;CN="Parr%C3%B2quia%20de%20Bocairent":MAILTO:info@visitbocairent.es
GEO:38.77343976183;-0.6101910953465
END:VEVENT
BEGIN:VEVENT
DTSTART;TZID=Europe/Madrid:20241201T110000
DTEND;TZID=Europe/Madrid:20241201T120000
DTSTAMP:20260421T232915
CREATED:20241106T095612Z
LAST-MODIFIED:20241106T095646Z
UID:10002247-1733050800-1733054400@www.visitbocairent.es
SUMMARY:Visita a l'ermita del Sant Crist
DESCRIPTION:Visita a la Ermita del Santo Cristo\nVisit to the Hermitage of Sant Crist\nVisite à l’Ermitage de Sant Crist
URL:https://www.visitbocairent.es/visita/visita-a-lermita-del-sant-crist-102/
LOCATION:Ermita del Sant Crist\, Bocairent\, Valencia\, 46880\, Espanya
ATTACH;FMTTYPE=image/png:https://www.visitbocairent.es/wp-content/uploads/2022/11/sant-crist-aerea-AB.png
ORGANIZER;CN="Parr%C3%B2quia%20de%20Bocairent":MAILTO:info@visitbocairent.es
GEO:38.77343976183;-0.6101910953465
END:VEVENT
BEGIN:VEVENT
DTSTART;TZID=Europe/Madrid:20241208T110000
DTEND;TZID=Europe/Madrid:20241208T120000
DTSTAMP:20260421T232915
CREATED:20241106T095650Z
LAST-MODIFIED:20241106T095721Z
UID:10002248-1733655600-1733659200@www.visitbocairent.es
SUMMARY:Visita a l'ermita del Sant Crist
DESCRIPTION:Visita a la Ermita del Santo Cristo\nVisit to the Hermitage of Sant Crist\nVisite à l’Ermitage de Sant Crist
URL:https://www.visitbocairent.es/visita/visita-a-lermita-del-sant-crist-103/
LOCATION:Ermita del Sant Crist\, Bocairent\, Valencia\, 46880\, Espanya
ATTACH;FMTTYPE=image/png:https://www.visitbocairent.es/wp-content/uploads/2022/11/sant-crist-aerea-AB.png
ORGANIZER;CN="Parr%C3%B2quia%20de%20Bocairent":MAILTO:info@visitbocairent.es
GEO:38.77343976183;-0.6101910953465
END:VEVENT
BEGIN:VEVENT
DTSTART;TZID=Europe/Madrid:20241215T110000
DTEND;TZID=Europe/Madrid:20241215T120000
DTSTAMP:20260421T232915
CREATED:20241106T095724Z
LAST-MODIFIED:20241106T095756Z
UID:10002249-1734260400-1734264000@www.visitbocairent.es
SUMMARY:Visita a l'ermita del Sant Crist
DESCRIPTION:Visita a la Ermita del Santo Cristo\nVisit to the Hermitage of Sant Crist\nVisite à l’Ermitage de Sant Crist
URL:https://www.visitbocairent.es/visita/visita-a-lermita-del-sant-crist-104/
LOCATION:Ermita del Sant Crist\, Bocairent\, Valencia\, 46880\, Espanya
ATTACH;FMTTYPE=image/png:https://www.visitbocairent.es/wp-content/uploads/2022/11/sant-crist-aerea-AB.png
ORGANIZER;CN="Parr%C3%B2quia%20de%20Bocairent":MAILTO:info@visitbocairent.es
GEO:38.77343976183;-0.6101910953465
END:VEVENT
BEGIN:VEVENT
DTSTART;TZID=Europe/Madrid:20241222T110000
DTEND;TZID=Europe/Madrid:20241222T120000
DTSTAMP:20260421T232915
CREATED:20241106T095759Z
LAST-MODIFIED:20241106T095832Z
UID:10002250-1734865200-1734868800@www.visitbocairent.es
SUMMARY:Visita a l'ermita del Sant Crist
DESCRIPTION:Visita a la Ermita del Santo Cristo\nVisit to the Hermitage of Sant Crist\nVisite à l’Ermitage de Sant Crist
URL:https://www.visitbocairent.es/visita/visita-a-lermita-del-sant-crist-105/
LOCATION:Ermita del Sant Crist\, Bocairent\, Valencia\, 46880\, Espanya
ATTACH;FMTTYPE=image/png:https://www.visitbocairent.es/wp-content/uploads/2022/11/sant-crist-aerea-AB.png
ORGANIZER;CN="Parr%C3%B2quia%20de%20Bocairent":MAILTO:info@visitbocairent.es
GEO:38.77343976183;-0.6101910953465
END:VEVENT
BEGIN:VEVENT
DTSTART;TZID=Europe/Madrid:20241229T110000
DTEND;TZID=Europe/Madrid:20241229T120000
DTSTAMP:20260421T232915
CREATED:20241106T095836Z
LAST-MODIFIED:20241106T095907Z
UID:10002251-1735470000-1735473600@www.visitbocairent.es
SUMMARY:Visita a l'ermita del Sant Crist
DESCRIPTION:Visita a la Ermita del Santo Cristo\nVisit to the Hermitage of Sant Crist\nVisite à l’Ermitage de Sant Crist
URL:https://www.visitbocairent.es/visita/visita-a-lermita-del-sant-crist-106/
LOCATION:Ermita del Sant Crist\, Bocairent\, Valencia\, 46880\, Espanya
ATTACH;FMTTYPE=image/png:https://www.visitbocairent.es/wp-content/uploads/2022/11/sant-crist-aerea-AB.png
ORGANIZER;CN="Parr%C3%B2quia%20de%20Bocairent":MAILTO:info@visitbocairent.es
GEO:38.77343976183;-0.6101910953465
END:VEVENT
BEGIN:VEVENT
DTSTART;TZID=Europe/Madrid:20250112T110000
DTEND;TZID=Europe/Madrid:20250112T120000
DTSTAMP:20260421T232916
CREATED:20250110T125810Z
LAST-MODIFIED:20250110T125845Z
UID:10002322-1736679600-1736683200@www.visitbocairent.es
SUMMARY:Visita a l'Ermita del Sant Crist
DESCRIPTION:Visita a la Ermita del Santo Cristo\nVisit to the Hermitage of Sant Crist\nVisite à l’Ermitage de Sant Crist
URL:https://www.visitbocairent.es/visita/visita-a-lermita-del-sant-crist-108/
LOCATION:Ermita del Sant Crist\, Bocairent\, Valencia\, 46880\, Espanya
ATTACH;FMTTYPE=image/png:https://www.visitbocairent.es/wp-content/uploads/2022/11/sant-crist-aerea-AB.png
ORGANIZER;CN="Parr%C3%B2quia%20de%20Bocairent":MAILTO:info@visitbocairent.es
GEO:38.77343976183;-0.6101910953465
END:VEVENT
BEGIN:VEVENT
DTSTART;TZID=Europe/Madrid:20250119T110000
DTEND;TZID=Europe/Madrid:20250119T120000
DTSTAMP:20260421T232916
CREATED:20250110T125847Z
LAST-MODIFIED:20250110T125921Z
UID:10002323-1737284400-1737288000@www.visitbocairent.es
SUMMARY:Visita a l'Ermita del Sant Crist
DESCRIPTION:Visita a la Ermita del Santo Cristo\nVisit to the Hermitage of Sant Crist\nVisite à l’Ermitage de Sant Crist
URL:https://www.visitbocairent.es/visita/visita-a-lermita-del-sant-crist-109/
LOCATION:Ermita del Sant Crist\, Bocairent\, Valencia\, 46880\, Espanya
ATTACH;FMTTYPE=image/png:https://www.visitbocairent.es/wp-content/uploads/2022/11/sant-crist-aerea-AB.png
ORGANIZER;CN="Parr%C3%B2quia%20de%20Bocairent":MAILTO:info@visitbocairent.es
GEO:38.77343976183;-0.6101910953465
END:VEVENT
BEGIN:VEVENT
DTSTART;TZID=Europe/Madrid:20250123T110000
DTEND;TZID=Europe/Madrid:20250123T120000
DTSTAMP:20260421T232916
CREATED:20250110T130016Z
LAST-MODIFIED:20250123T045927Z
UID:10002325-1737630000-1737633600@www.visitbocairent.es
SUMMARY:Visita a l'Ermita del Sant Crist
DESCRIPTION:Visita a la Ermita del Santo Cristo\nVisit to the Hermitage of Sant Crist\nVisite à l’Ermitage de Sant Crist
URL:https://www.visitbocairent.es/visita/visita-a-lermita-del-sant-crist-111/
LOCATION:Ermita del Sant Crist\, Bocairent\, Valencia\, 46880\, Espanya
ATTACH;FMTTYPE=image/png:https://www.visitbocairent.es/wp-content/uploads/2022/11/sant-crist-aerea-AB.png
ORGANIZER;CN="Parr%C3%B2quia%20de%20Bocairent":MAILTO:info@visitbocairent.es
GEO:38.77343976183;-0.6101910953465
END:VEVENT
BEGIN:VEVENT
DTSTART;TZID=Europe/Madrid:20250125T110000
DTEND;TZID=Europe/Madrid:20250125T120000
DTSTAMP:20260421T232916
CREATED:20250110T125925Z
LAST-MODIFIED:20250123T045901Z
UID:10002324-1737802800-1737806400@www.visitbocairent.es
SUMMARY:Visita a l'Ermita del Sant Crist
DESCRIPTION:Visita a la Ermita del Santo Cristo\nVisit to the Hermitage of Sant Crist\nVisite à l’Ermitage de Sant Crist
URL:https://www.visitbocairent.es/visita/visita-a-lermita-del-sant-crist-110/
LOCATION:Ermita del Sant Crist\, Bocairent\, Valencia\, 46880\, Espanya
ATTACH;FMTTYPE=image/png:https://www.visitbocairent.es/wp-content/uploads/2022/11/sant-crist-aerea-AB.png
ORGANIZER;CN="Parr%C3%B2quia%20de%20Bocairent":MAILTO:info@visitbocairent.es
GEO:38.77343976183;-0.6101910953465
END:VEVENT
BEGIN:VEVENT
DTSTART;TZID=Europe/Madrid:20250216T110000
DTEND;TZID=Europe/Madrid:20250216T120000
DTSTAMP:20260421T232916
CREATED:20250110T130051Z
LAST-MODIFIED:20250110T130129Z
UID:10002326-1739703600-1739707200@www.visitbocairent.es
SUMMARY:Visita a l'Ermita del Sant Crist
DESCRIPTION:Visita a la Ermita del Santo Cristo\nVisit to the Hermitage of Sant Crist\nVisite à l’Ermitage de Sant Crist
URL:https://www.visitbocairent.es/visita/visita-a-lermita-del-sant-crist-112/
LOCATION:Ermita del Sant Crist\, Bocairent\, Valencia\, 46880\, Espanya
ATTACH;FMTTYPE=image/png:https://www.visitbocairent.es/wp-content/uploads/2022/11/sant-crist-aerea-AB.png
ORGANIZER;CN="Parr%C3%B2quia%20de%20Bocairent":MAILTO:info@visitbocairent.es
GEO:38.77343976183;-0.6101910953465
END:VEVENT
BEGIN:VEVENT
DTSTART;TZID=Europe/Madrid:20250223T110000
DTEND;TZID=Europe/Madrid:20250223T120000
DTSTAMP:20260421T232916
CREATED:20250110T130135Z
LAST-MODIFIED:20250110T130206Z
UID:10002327-1740308400-1740312000@www.visitbocairent.es
SUMMARY:Visita a l'Ermita del Sant Crist
DESCRIPTION:Visita a la Ermita del Santo Cristo\nVisit to the Hermitage of Sant Crist\nVisite à l’Ermitage de Sant Crist
URL:https://www.visitbocairent.es/visita/visita-a-lermita-del-sant-crist-113/
LOCATION:Ermita del Sant Crist\, Bocairent\, Valencia\, 46880\, Espanya
ATTACH;FMTTYPE=image/png:https://www.visitbocairent.es/wp-content/uploads/2022/11/sant-crist-aerea-AB.png
ORGANIZER;CN="Parr%C3%B2quia%20de%20Bocairent":MAILTO:info@visitbocairent.es
GEO:38.77343976183;-0.6101910953465
END:VEVENT
BEGIN:VEVENT
DTSTART;TZID=Europe/Madrid:20250302T110000
DTEND;TZID=Europe/Madrid:20250302T120000
DTSTAMP:20260421T232916
CREATED:20250110T130209Z
LAST-MODIFIED:20250110T130246Z
UID:10002328-1740913200-1740916800@www.visitbocairent.es
SUMMARY:Visita a l'Ermita del Sant Crist
DESCRIPTION:Visita a la Ermita del Santo Cristo\nVisit to the Hermitage of Sant Crist\nVisite à l’Ermitage de Sant Crist
URL:https://www.visitbocairent.es/visita/visita-a-lermita-del-sant-crist-114/
LOCATION:Ermita del Sant Crist\, Bocairent\, Valencia\, 46880\, Espanya
ATTACH;FMTTYPE=image/png:https://www.visitbocairent.es/wp-content/uploads/2022/11/sant-crist-aerea-AB.png
ORGANIZER;CN="Parr%C3%B2quia%20de%20Bocairent":MAILTO:info@visitbocairent.es
GEO:38.77343976183;-0.6101910953465
END:VEVENT
BEGIN:VEVENT
DTSTART;TZID=Europe/Madrid:20250323T110000
DTEND;TZID=Europe/Madrid:20250323T120000
DTSTAMP:20260421T232916
CREATED:20250318T122844Z
LAST-MODIFIED:20250318T122946Z
UID:10002409-1742727600-1742731200@www.visitbocairent.es
SUMMARY:Visita a l'ermita del Sant Crist
DESCRIPTION:Visita a la Ermita del Santo Cristo\nVisit to the Hermitage of Sant Crist\nVisite à l’Ermitage de Sant Crist
URL:https://www.visitbocairent.es/visita/visita-a-lermita-del-sant-crist-116/
LOCATION:Ermita del Sant Crist\, Bocairent\, Valencia\, 46880\, Espanya
ATTACH;FMTTYPE=image/png:https://www.visitbocairent.es/wp-content/uploads/2022/11/sant-crist-aerea-AB.png
ORGANIZER;CN="Parr%C3%B2quia%20de%20Bocairent":MAILTO:info@visitbocairent.es
GEO:38.77343976183;-0.6101910953465
END:VEVENT
BEGIN:VEVENT
DTSTART;TZID=Europe/Madrid:20250330T110000
DTEND;TZID=Europe/Madrid:20250330T120000
DTSTAMP:20260421T232916
CREATED:20250318T123000Z
LAST-MODIFIED:20250318T123040Z
UID:10002410-1743332400-1743336000@www.visitbocairent.es
SUMMARY:Visita a l'ermita del Sant Crist
DESCRIPTION:Visita a la Ermita del Santo Cristo\nVisit to the Hermitage of Sant Crist\nVisite à l’Ermitage de Sant Crist
URL:https://www.visitbocairent.es/visita/visita-a-lermita-del-sant-crist-117/
LOCATION:Ermita del Sant Crist\, Bocairent\, Valencia\, 46880\, Espanya
ATTACH;FMTTYPE=image/png:https://www.visitbocairent.es/wp-content/uploads/2022/11/sant-crist-aerea-AB.png
ORGANIZER;CN="Parr%C3%B2quia%20de%20Bocairent":MAILTO:info@visitbocairent.es
GEO:38.77343976183;-0.6101910953465
END:VEVENT
BEGIN:VEVENT
DTSTART;TZID=Europe/Madrid:20250406T110000
DTEND;TZID=Europe/Madrid:20250406T120000
DTSTAMP:20260421T232916
CREATED:20250318T123044Z
LAST-MODIFIED:20250318T123126Z
UID:10002411-1743937200-1743940800@www.visitbocairent.es
SUMMARY:Visita a l'ermita del Sant Crist
DESCRIPTION:Visita a la Ermita del Santo Cristo\nVisit to the Hermitage of Sant Crist\nVisite à l’Ermitage de Sant Crist
URL:https://www.visitbocairent.es/visita/visita-a-lermita-del-sant-crist-118/
LOCATION:Ermita del Sant Crist\, Bocairent\, Valencia\, 46880\, Espanya
ATTACH;FMTTYPE=image/png:https://www.visitbocairent.es/wp-content/uploads/2022/11/sant-crist-aerea-AB.png
ORGANIZER;CN="Parr%C3%B2quia%20de%20Bocairent":MAILTO:info@visitbocairent.es
GEO:38.77343976183;-0.6101910953465
END:VEVENT
BEGIN:VEVENT
DTSTART;TZID=Europe/Madrid:20250413T110000
DTEND;TZID=Europe/Madrid:20250413T120000
DTSTAMP:20260421T232916
CREATED:20250318T123131Z
LAST-MODIFIED:20250318T123212Z
UID:10002412-1744542000-1744545600@www.visitbocairent.es
SUMMARY:Visita a l'ermita del Sant Crist
DESCRIPTION:Visita a la Ermita del Santo Cristo\nVisit to the Hermitage of Sant Crist\nVisite à l’Ermitage de Sant Crist
URL:https://www.visitbocairent.es/visita/visita-a-lermita-del-sant-crist-119/
LOCATION:Ermita del Sant Crist\, Bocairent\, Valencia\, 46880\, Espanya
ATTACH;FMTTYPE=image/png:https://www.visitbocairent.es/wp-content/uploads/2022/11/sant-crist-aerea-AB.png
ORGANIZER;CN="Parr%C3%B2quia%20de%20Bocairent":MAILTO:info@visitbocairent.es
GEO:38.77343976183;-0.6101910953465
END:VEVENT
BEGIN:VEVENT
DTSTART;TZID=Europe/Madrid:20250418T110000
DTEND;TZID=Europe/Madrid:20250418T120000
DTSTAMP:20260421T232916
CREATED:20250318T123216Z
LAST-MODIFIED:20250318T123248Z
UID:10002413-1744974000-1744977600@www.visitbocairent.es
SUMMARY:Visita a l'ermita del Sant Crist
DESCRIPTION:Visita a la Ermita del Santo Cristo\nVisit to the Hermitage of Sant Crist\nVisite à l’Ermitage de Sant Crist
URL:https://www.visitbocairent.es/visita/visita-a-lermita-del-sant-crist-120/
LOCATION:Ermita del Sant Crist\, Bocairent\, Valencia\, 46880\, Espanya
ATTACH;FMTTYPE=image/png:https://www.visitbocairent.es/wp-content/uploads/2022/11/sant-crist-aerea-AB.png
ORGANIZER;CN="Parr%C3%B2quia%20de%20Bocairent":MAILTO:info@visitbocairent.es
GEO:38.77343976183;-0.6101910953465
END:VEVENT
BEGIN:VEVENT
DTSTART;TZID=Europe/Madrid:20250420T110000
DTEND;TZID=Europe/Madrid:20250420T120000
DTSTAMP:20260421T232916
CREATED:20250318T123252Z
LAST-MODIFIED:20250318T123328Z
UID:10002414-1745146800-1745150400@www.visitbocairent.es
SUMMARY:Visita a l'ermita del Sant Crist
DESCRIPTION:Visita a la Ermita del Santo Cristo\nVisit to the Hermitage of Sant Crist\nVisite à l’Ermitage de Sant Crist
URL:https://www.visitbocairent.es/visita/visita-a-lermita-del-sant-crist-121/
LOCATION:Ermita del Sant Crist\, Bocairent\, Valencia\, 46880\, Espanya
ATTACH;FMTTYPE=image/png:https://www.visitbocairent.es/wp-content/uploads/2022/11/sant-crist-aerea-AB.png
ORGANIZER;CN="Parr%C3%B2quia%20de%20Bocairent":MAILTO:info@visitbocairent.es
GEO:38.77343976183;-0.6101910953465
END:VEVENT
BEGIN:VEVENT
DTSTART;TZID=Europe/Madrid:20250427T110000
DTEND;TZID=Europe/Madrid:20250427T120000
DTSTAMP:20260421T232916
CREATED:20250318T123332Z
LAST-MODIFIED:20250318T123402Z
UID:10002415-1745751600-1745755200@www.visitbocairent.es
SUMMARY:Visita a l'ermita del Sant Crist
DESCRIPTION:Visita a la Ermita del Santo Cristo\nVisit to the Hermitage of Sant Crist\nVisite à l’Ermitage de Sant Crist
URL:https://www.visitbocairent.es/visita/visita-a-lermita-del-sant-crist-122/
LOCATION:Ermita del Sant Crist\, Bocairent\, Valencia\, 46880\, Espanya
ATTACH;FMTTYPE=image/png:https://www.visitbocairent.es/wp-content/uploads/2022/11/sant-crist-aerea-AB.png
ORGANIZER;CN="Parr%C3%B2quia%20de%20Bocairent":MAILTO:info@visitbocairent.es
GEO:38.77343976183;-0.6101910953465
END:VEVENT
END:VCALENDAR