BEGIN:VCALENDAR
VERSION:2.0
PRODID:-//Visit Bocairent - Què veure a Bocairent - ECPv6.0.12//NONSGML v1.0//EN
CALSCALE:GREGORIAN
METHOD:PUBLISH
X-WR-CALNAME:Visit Bocairent - Què veure a Bocairent
X-ORIGINAL-URL:https://www.visitbocairent.es
X-WR-CALDESC:Esdeveniments per Visit Bocairent - Què veure a Bocairent
REFRESH-INTERVAL;VALUE=DURATION:PT1H
X-Robots-Tag:noindex
X-PUBLISHED-TTL:PT1H
BEGIN:VTIMEZONE
TZID:Europe/Madrid
BEGIN:DAYLIGHT
TZOFFSETFROM:+0100
TZOFFSETTO:+0200
TZNAME:CEST
DTSTART:20230326T010000
END:DAYLIGHT
BEGIN:STANDARD
TZOFFSETFROM:+0200
TZOFFSETTO:+0100
TZNAME:CET
DTSTART:20231029T010000
END:STANDARD
BEGIN:DAYLIGHT
TZOFFSETFROM:+0100
TZOFFSETTO:+0200
TZNAME:CEST
DTSTART:20240331T010000
END:DAYLIGHT
BEGIN:STANDARD
TZOFFSETFROM:+0200
TZOFFSETTO:+0100
TZNAME:CET
DTSTART:20241027T010000
END:STANDARD
END:VTIMEZONE
BEGIN:VEVENT
DTSTART;TZID=Europe/Madrid:20230910T110000
DTEND;TZID=Europe/Madrid:20230910T120000
DTSTAMP:20260421T202405
CREATED:20230827T075944Z
LAST-MODIFIED:20230827T080029Z
UID:10001260-1694343600-1694347200@www.visitbocairent.es
SUMMARY:Visita a l'Ermita del Sant Crist
DESCRIPTION:Visita a la Ermita del Santo Cristo\nVisit to the Hermitage of Sant Crist\nVisite à l’Ermitage de Sant Crist
URL:https://www.visitbocairent.es/visita/visita-a-lermita-del-sant-crist-37/
LOCATION:Ermita del Sant Crist\, Bocairent\, Valencia\, 46880\, Espanya
ATTACH;FMTTYPE=image/png:https://www.visitbocairent.es/wp-content/uploads/2022/11/sant-crist-aerea-AB.png
ORGANIZER;CN="Parr%C3%B2quia%20de%20Bocairent":MAILTO:info@visitbocairent.es
GEO:38.77343976183;-0.6101910953465
END:VEVENT
BEGIN:VEVENT
DTSTART;TZID=Europe/Madrid:20230917T110000
DTEND;TZID=Europe/Madrid:20230917T120000
DTSTAMP:20260421T202405
CREATED:20230827T080039Z
LAST-MODIFIED:20230827T080127Z
UID:10001261-1694948400-1694952000@www.visitbocairent.es
SUMMARY:Visita a l'Ermita del Sant Crist
DESCRIPTION:Visita a la Ermita del Santo Cristo\nVisit to the Hermitage of Sant Crist\nVisite à l’Ermitage de Sant Crist
URL:https://www.visitbocairent.es/visita/visita-a-lermita-del-sant-crist-38/
LOCATION:Ermita del Sant Crist\, Bocairent\, Valencia\, 46880\, Espanya
ATTACH;FMTTYPE=image/png:https://www.visitbocairent.es/wp-content/uploads/2022/11/sant-crist-aerea-AB.png
ORGANIZER;CN="Parr%C3%B2quia%20de%20Bocairent":MAILTO:info@visitbocairent.es
GEO:38.77343976183;-0.6101910953465
END:VEVENT
BEGIN:VEVENT
DTSTART;TZID=Europe/Madrid:20230924T110000
DTEND;TZID=Europe/Madrid:20230924T120000
DTSTAMP:20260421T202405
CREATED:20230827T080136Z
LAST-MODIFIED:20230827T080217Z
UID:10001262-1695553200-1695556800@www.visitbocairent.es
SUMMARY:Visita a l'Ermita del Sant Crist
DESCRIPTION:Visita a la Ermita del Santo Cristo\nVisit to the Hermitage of Sant Crist\nVisite à l’Ermitage de Sant Crist
URL:https://www.visitbocairent.es/visita/visita-a-lermita-del-sant-crist-39/
LOCATION:Ermita del Sant Crist\, Bocairent\, Valencia\, 46880\, Espanya
ATTACH;FMTTYPE=image/png:https://www.visitbocairent.es/wp-content/uploads/2022/11/sant-crist-aerea-AB.png
ORGANIZER;CN="Parr%C3%B2quia%20de%20Bocairent":MAILTO:info@visitbocairent.es
GEO:38.77343976183;-0.6101910953465
END:VEVENT
BEGIN:VEVENT
DTSTART;TZID=Europe/Madrid:20231001T110000
DTEND;TZID=Europe/Madrid:20231001T120000
DTSTAMP:20260421T202405
CREATED:20230827T075627Z
LAST-MODIFIED:20230827T075801Z
UID:10001263-1696158000-1696161600@www.visitbocairent.es
SUMMARY:Visita a l'Ermita del Sant Crist
DESCRIPTION:Visita a la Ermita del Santo Cristo\nVisit to the Hermitage of Sant Crist\nVisite à l’Ermitage de Sant Crist
URL:https://www.visitbocairent.es/visita/visita-a-lermita-del-sant-crist-35/2023-10-01/
LOCATION:Ermita del Sant Crist\, Bocairent\, Valencia\, 46880\, Espanya
ATTACH;FMTTYPE=image/png:https://www.visitbocairent.es/wp-content/uploads/2022/11/sant-crist-aerea-AB.png
ORGANIZER;CN="Parr%C3%B2quia%20de%20Bocairent":MAILTO:info@visitbocairent.es
GEO:38.77343976183;-0.6101910953465
END:VEVENT
BEGIN:VEVENT
DTSTART;TZID=Europe/Madrid:20231008T110000
DTEND;TZID=Europe/Madrid:20231008T120000
DTSTAMP:20260421T202405
CREATED:20230827T075627Z
LAST-MODIFIED:20230827T075801Z
UID:10001264-1696762800-1696766400@www.visitbocairent.es
SUMMARY:Visita a l'Ermita del Sant Crist
DESCRIPTION:Visita a la Ermita del Santo Cristo\nVisit to the Hermitage of Sant Crist\nVisite à l’Ermitage de Sant Crist
URL:https://www.visitbocairent.es/visita/visita-a-lermita-del-sant-crist-35/2023-10-08/
LOCATION:Ermita del Sant Crist\, Bocairent\, Valencia\, 46880\, Espanya
ATTACH;FMTTYPE=image/png:https://www.visitbocairent.es/wp-content/uploads/2022/11/sant-crist-aerea-AB.png
ORGANIZER;CN="Parr%C3%B2quia%20de%20Bocairent":MAILTO:info@visitbocairent.es
GEO:38.77343976183;-0.6101910953465
END:VEVENT
BEGIN:VEVENT
DTSTART;TZID=Europe/Madrid:20231015T110000
DTEND;TZID=Europe/Madrid:20231015T120000
DTSTAMP:20260421T202405
CREATED:20230827T075627Z
LAST-MODIFIED:20230827T075801Z
UID:10001265-1697367600-1697371200@www.visitbocairent.es
SUMMARY:Visita a l'Ermita del Sant Crist
DESCRIPTION:Visita a la Ermita del Santo Cristo\nVisit to the Hermitage of Sant Crist\nVisite à l’Ermitage de Sant Crist
URL:https://www.visitbocairent.es/visita/visita-a-lermita-del-sant-crist-35/2023-10-15/
LOCATION:Ermita del Sant Crist\, Bocairent\, Valencia\, 46880\, Espanya
ATTACH;FMTTYPE=image/png:https://www.visitbocairent.es/wp-content/uploads/2022/11/sant-crist-aerea-AB.png
ORGANIZER;CN="Parr%C3%B2quia%20de%20Bocairent":MAILTO:info@visitbocairent.es
GEO:38.77343976183;-0.6101910953465
END:VEVENT
BEGIN:VEVENT
DTSTART;TZID=Europe/Madrid:20231022T110000
DTEND;TZID=Europe/Madrid:20231022T120000
DTSTAMP:20260421T202405
CREATED:20231020T100709Z
LAST-MODIFIED:20231020T100800Z
UID:10001266-1697972400-1697976000@www.visitbocairent.es
SUMMARY:Visita a l'Ermita del Sant Crist
DESCRIPTION:Visita a la Ermita del Santo Cristo\nVisit to the Hermitage of Sant Crist\nVisite à l’Ermitage de Sant Crist
URL:https://www.visitbocairent.es/visita/visita-a-lermita-del-sant-crist-40/
LOCATION:Ermita del Sant Crist\, Bocairent\, Valencia\, 46880\, Espanya
ATTACH;FMTTYPE=image/png:https://www.visitbocairent.es/wp-content/uploads/2022/11/sant-crist-aerea-AB.png
ORGANIZER;CN="Parr%C3%B2quia%20de%20Bocairent":MAILTO:info@visitbocairent.es
GEO:38.77343976183;-0.6101910953465
END:VEVENT
BEGIN:VEVENT
DTSTART;TZID=Europe/Madrid:20231029T110000
DTEND;TZID=Europe/Madrid:20231029T120000
DTSTAMP:20260421T202405
CREATED:20231020T100807Z
LAST-MODIFIED:20231020T100858Z
UID:10001267-1698577200-1698580800@www.visitbocairent.es
SUMMARY:Visita a l'Ermita del Sant Crist
DESCRIPTION:Visita a la Ermita del Santo Cristo\nVisit to the Hermitage of Sant Crist\nVisite à l’Ermitage de Sant Crist
URL:https://www.visitbocairent.es/visita/visita-a-lermita-del-sant-crist-41/
LOCATION:Ermita del Sant Crist\, Bocairent\, Valencia\, 46880\, Espanya
ATTACH;FMTTYPE=image/png:https://www.visitbocairent.es/wp-content/uploads/2022/11/sant-crist-aerea-AB.png
ORGANIZER;CN="Parr%C3%B2quia%20de%20Bocairent":MAILTO:info@visitbocairent.es
GEO:38.77343976183;-0.6101910953465
END:VEVENT
BEGIN:VEVENT
DTSTART;TZID=Europe/Madrid:20231105T110000
DTEND;TZID=Europe/Madrid:20231105T120000
DTSTAMP:20260421T202405
CREATED:20231020T100912Z
LAST-MODIFIED:20231020T100950Z
UID:10001268-1699182000-1699185600@www.visitbocairent.es
SUMMARY:Visita a l'Ermita del Sant Crist
DESCRIPTION:Visita a la Ermita del Santo Cristo\nVisit to the Hermitage of Sant Crist\nVisite à l’Ermitage de Sant Crist
URL:https://www.visitbocairent.es/visita/visita-a-lermita-del-sant-crist-42/
LOCATION:Ermita del Sant Crist\, Bocairent\, Valencia\, 46880\, Espanya
ATTACH;FMTTYPE=image/png:https://www.visitbocairent.es/wp-content/uploads/2022/11/sant-crist-aerea-AB.png
ORGANIZER;CN="Parr%C3%B2quia%20de%20Bocairent":MAILTO:info@visitbocairent.es
GEO:38.77343976183;-0.6101910953465
END:VEVENT
BEGIN:VEVENT
DTSTART;TZID=Europe/Madrid:20231112T110000
DTEND;TZID=Europe/Madrid:20231112T120000
DTSTAMP:20260421T202405
CREATED:20231020T100956Z
LAST-MODIFIED:20231020T102328Z
UID:10001269-1699786800-1699790400@www.visitbocairent.es
SUMMARY:Visita a l'Ermita del Sant Crist
DESCRIPTION:Visita a la Ermita del Santo Cristo\nVisit to the Hermitage of Sant Crist\nVisite à l’Ermitage de Sant Crist
URL:https://www.visitbocairent.es/visita/visita-a-lermita-del-sant-crist-43/
LOCATION:Ermita del Sant Crist\, Bocairent\, Valencia\, 46880\, Espanya
ATTACH;FMTTYPE=image/png:https://www.visitbocairent.es/wp-content/uploads/2022/11/sant-crist-aerea-AB.png
ORGANIZER;CN="Parr%C3%B2quia%20de%20Bocairent":MAILTO:info@visitbocairent.es
GEO:38.77343976183;-0.6101910953465
END:VEVENT
BEGIN:VEVENT
DTSTART;TZID=Europe/Madrid:20231119T110000
DTEND;TZID=Europe/Madrid:20231119T120000
DTSTAMP:20260421T202405
CREATED:20231020T101038Z
LAST-MODIFIED:20231020T101358Z
UID:10001270-1700391600-1700395200@www.visitbocairent.es
SUMMARY:Visita a l'Ermita del Sant Crist
DESCRIPTION:Visita a la Ermita del Santo Cristo\nVisit to the Hermitage of Sant Crist\nVisite à l’Ermitage de Sant Crist
URL:https://www.visitbocairent.es/visita/visita-a-lermita-del-sant-crist-44/
LOCATION:Ermita del Sant Crist\, Bocairent\, Valencia\, 46880\, Espanya
ATTACH;FMTTYPE=image/png:https://www.visitbocairent.es/wp-content/uploads/2022/11/sant-crist-aerea-AB.png
ORGANIZER;CN="Parr%C3%B2quia%20de%20Bocairent":MAILTO:info@visitbocairent.es
GEO:38.77343976183;-0.6101910953465
END:VEVENT
BEGIN:VEVENT
DTSTART;TZID=Europe/Madrid:20231126T110000
DTEND;TZID=Europe/Madrid:20231126T120000
DTSTAMP:20260421T202405
CREATED:20231020T101403Z
LAST-MODIFIED:20231020T101459Z
UID:10001271-1700996400-1701000000@www.visitbocairent.es
SUMMARY:Visita a l'Ermita del Sant Crist
DESCRIPTION:Visita a la Ermita del Santo Cristo\nVisit to the Hermitage of Sant Crist\nVisite à l’Ermitage de Sant Crist
URL:https://www.visitbocairent.es/visita/visita-a-lermita-del-sant-crist-45/
LOCATION:Ermita del Sant Crist\, Bocairent\, Valencia\, 46880\, Espanya
ATTACH;FMTTYPE=image/png:https://www.visitbocairent.es/wp-content/uploads/2022/11/sant-crist-aerea-AB.png
ORGANIZER;CN="Parr%C3%B2quia%20de%20Bocairent":MAILTO:info@visitbocairent.es
GEO:38.77343976183;-0.6101910953465
END:VEVENT
BEGIN:VEVENT
DTSTART;TZID=Europe/Madrid:20231203T110000
DTEND;TZID=Europe/Madrid:20231203T120000
DTSTAMP:20260421T202405
CREATED:20231020T101509Z
LAST-MODIFIED:20231020T101556Z
UID:10001272-1701601200-1701604800@www.visitbocairent.es
SUMMARY:Visita a l'Ermita del Sant Crist
DESCRIPTION:Visita a la Ermita del Santo Cristo\nVisit to the Hermitage of Sant Crist\nVisite à l’Ermitage de Sant Crist
URL:https://www.visitbocairent.es/visita/visita-a-lermita-del-sant-crist-46/
LOCATION:Ermita del Sant Crist\, Bocairent\, Valencia\, 46880\, Espanya
ATTACH;FMTTYPE=image/png:https://www.visitbocairent.es/wp-content/uploads/2022/11/sant-crist-aerea-AB.png
ORGANIZER;CN="Parr%C3%B2quia%20de%20Bocairent":MAILTO:info@visitbocairent.es
GEO:38.77343976183;-0.6101910953465
END:VEVENT
BEGIN:VEVENT
DTSTART;TZID=Europe/Madrid:20231210T110000
DTEND;TZID=Europe/Madrid:20231210T120000
DTSTAMP:20260421T202405
CREATED:20231020T101600Z
LAST-MODIFIED:20231020T101641Z
UID:10001273-1702206000-1702209600@www.visitbocairent.es
SUMMARY:Visita a l'Ermita del Sant Crist
DESCRIPTION:Visita a la Ermita del Santo Cristo\nVisit to the Hermitage of Sant Crist\nVisite à l’Ermitage de Sant Crist
URL:https://www.visitbocairent.es/visita/visita-a-lermita-del-sant-crist-47/
LOCATION:Ermita del Sant Crist\, Bocairent\, Valencia\, 46880\, Espanya
ATTACH;FMTTYPE=image/png:https://www.visitbocairent.es/wp-content/uploads/2022/11/sant-crist-aerea-AB.png
ORGANIZER;CN="Parr%C3%B2quia%20de%20Bocairent":MAILTO:info@visitbocairent.es
GEO:38.77343976183;-0.6101910953465
END:VEVENT
BEGIN:VEVENT
DTSTART;TZID=Europe/Madrid:20231217T110000
DTEND;TZID=Europe/Madrid:20231217T120000
DTSTAMP:20260421T202405
CREATED:20231020T101645Z
LAST-MODIFIED:20231020T101726Z
UID:10001274-1702810800-1702814400@www.visitbocairent.es
SUMMARY:Visita a l'Ermita del Sant Crist
DESCRIPTION:Visita a la Ermita del Santo Cristo\nVisit to the Hermitage of Sant Crist\nVisite à l’Ermitage de Sant Crist
URL:https://www.visitbocairent.es/visita/visita-a-lermita-del-sant-crist-48/
LOCATION:Ermita del Sant Crist\, Bocairent\, Valencia\, 46880\, Espanya
ATTACH;FMTTYPE=image/png:https://www.visitbocairent.es/wp-content/uploads/2022/11/sant-crist-aerea-AB.png
ORGANIZER;CN="Parr%C3%B2quia%20de%20Bocairent":MAILTO:info@visitbocairent.es
GEO:38.77343976183;-0.6101910953465
END:VEVENT
BEGIN:VEVENT
DTSTART;TZID=Europe/Madrid:20231224T110000
DTEND;TZID=Europe/Madrid:20231224T120000
DTSTAMP:20260421T202405
CREATED:20231020T101739Z
LAST-MODIFIED:20231020T101817Z
UID:10001275-1703415600-1703419200@www.visitbocairent.es
SUMMARY:Visita a l'Ermita del Sant Crist
DESCRIPTION:Visita a la Ermita del Santo Cristo\nVisit to the Hermitage of Sant Crist\nVisite à l’Ermitage de Sant Crist
URL:https://www.visitbocairent.es/visita/visita-a-lermita-del-sant-crist-49/
LOCATION:Ermita del Sant Crist\, Bocairent\, Valencia\, 46880\, Espanya
ATTACH;FMTTYPE=image/png:https://www.visitbocairent.es/wp-content/uploads/2022/11/sant-crist-aerea-AB.png
ORGANIZER;CN="Parr%C3%B2quia%20de%20Bocairent":MAILTO:info@visitbocairent.es
GEO:38.77343976183;-0.6101910953465
END:VEVENT
BEGIN:VEVENT
DTSTART;TZID=Europe/Madrid:20231231T110000
DTEND;TZID=Europe/Madrid:20231231T120000
DTSTAMP:20260421T202405
CREATED:20231020T101822Z
LAST-MODIFIED:20231020T101857Z
UID:10001276-1704020400-1704024000@www.visitbocairent.es
SUMMARY:Visita a l'Ermita del Sant Crist
DESCRIPTION:Visita a la Ermita del Santo Cristo\nVisit to the Hermitage of Sant Crist\nVisite à l’Ermitage de Sant Crist
URL:https://www.visitbocairent.es/visita/visita-a-lermita-del-sant-crist-50/
LOCATION:Ermita del Sant Crist\, Bocairent\, Valencia\, 46880\, Espanya
ATTACH;FMTTYPE=image/png:https://www.visitbocairent.es/wp-content/uploads/2022/11/sant-crist-aerea-AB.png
ORGANIZER;CN="Parr%C3%B2quia%20de%20Bocairent":MAILTO:info@visitbocairent.es
GEO:38.77343976183;-0.6101910953465
END:VEVENT
BEGIN:VEVENT
DTSTART;TZID=Europe/Madrid:20240114T110000
DTEND;TZID=Europe/Madrid:20240114T120000
DTSTAMP:20260421T202405
CREATED:20240110T174003Z
LAST-MODIFIED:20240110T174040Z
UID:10001477-1705230000-1705233600@www.visitbocairent.es
SUMMARY:Visita a l'ermita del Sant Crist
DESCRIPTION:Visita a la Ermita del Santo Cristo\nVisit to the Hermitage of Sant Crist\nVisite à l’Ermitage de Sant Crist
URL:https://www.visitbocairent.es/visita/visita-a-lermita-del-sant-crist-52/
LOCATION:Ermita del Sant Crist\, Bocairent\, Valencia\, 46880\, Espanya
ATTACH;FMTTYPE=image/png:https://www.visitbocairent.es/wp-content/uploads/2022/11/sant-crist-aerea-AB.png
ORGANIZER;CN="Parr%C3%B2quia%20de%20Bocairent":MAILTO:info@visitbocairent.es
GEO:38.77343976183;-0.6101910953465
END:VEVENT
BEGIN:VEVENT
DTSTART;TZID=Europe/Madrid:20240121T110000
DTEND;TZID=Europe/Madrid:20240121T120000
DTSTAMP:20260421T202405
CREATED:20240110T174046Z
LAST-MODIFIED:20240110T174256Z
UID:10001478-1705834800-1705838400@www.visitbocairent.es
SUMMARY:Visita a l'ermita del Sant Crist
DESCRIPTION:Visita a la Ermita del Santo Cristo\nVisit to the Hermitage of Sant Crist\nVisite à l’Ermitage de Sant Crist
URL:https://www.visitbocairent.es/visita/visita-a-lermita-del-sant-crist-53/
LOCATION:Ermita del Sant Crist\, Bocairent\, Valencia\, 46880\, Espanya
ATTACH;FMTTYPE=image/png:https://www.visitbocairent.es/wp-content/uploads/2022/11/sant-crist-aerea-AB.png
ORGANIZER;CN="Parr%C3%B2quia%20de%20Bocairent":MAILTO:info@visitbocairent.es
GEO:38.77343976183;-0.6101910953465
END:VEVENT
BEGIN:VEVENT
DTSTART;TZID=Europe/Madrid:20240128T110000
DTEND;TZID=Europe/Madrid:20240128T120000
DTSTAMP:20260421T202405
CREATED:20240110T174125Z
LAST-MODIFIED:20240110T174204Z
UID:10001479-1706439600-1706443200@www.visitbocairent.es
SUMMARY:Visita a l'ermita del Sant Crist
DESCRIPTION:Visita a la Ermita del Santo Cristo\nVisit to the Hermitage of Sant Crist\nVisite à l’Ermitage de Sant Crist
URL:https://www.visitbocairent.es/visita/visita-a-lermita-del-sant-crist-54/
LOCATION:Ermita del Sant Crist\, Bocairent\, Valencia\, 46880\, Espanya
ATTACH;FMTTYPE=image/png:https://www.visitbocairent.es/wp-content/uploads/2022/11/sant-crist-aerea-AB.png
ORGANIZER;CN="Parr%C3%B2quia%20de%20Bocairent":MAILTO:info@visitbocairent.es
GEO:38.77343976183;-0.6101910953465
END:VEVENT
BEGIN:VEVENT
DTSTART;TZID=Europe/Madrid:20240211T110000
DTEND;TZID=Europe/Madrid:20240211T120000
DTSTAMP:20260421T202405
CREATED:20240131T054039Z
LAST-MODIFIED:20240131T054113Z
UID:10001480-1707649200-1707652800@www.visitbocairent.es
SUMMARY:Visita a l'ermita del Sant Crist
DESCRIPTION:Visita a la Ermita del Santo Cristo\nVisit to the Hermitage of Sant Crist\nVisite à l’Ermitage de Sant Crist
URL:https://www.visitbocairent.es/visita/visita-a-lermita-del-sant-crist-55/
LOCATION:Ermita del Sant Crist\, Bocairent\, Valencia\, 46880\, Espanya
ATTACH;FMTTYPE=image/png:https://www.visitbocairent.es/wp-content/uploads/2022/11/sant-crist-aerea-AB.png
ORGANIZER;CN="Parr%C3%B2quia%20de%20Bocairent":MAILTO:info@visitbocairent.es
GEO:38.77343976183;-0.6101910953465
END:VEVENT
BEGIN:VEVENT
DTSTART;TZID=Europe/Madrid:20240218T110000
DTEND;TZID=Europe/Madrid:20240218T120000
DTSTAMP:20260421T202405
CREATED:20240131T054118Z
LAST-MODIFIED:20240131T054157Z
UID:10001481-1708254000-1708257600@www.visitbocairent.es
SUMMARY:Visita a l'ermita del Sant Crist
DESCRIPTION:Visita a la Ermita del Santo Cristo\nVisit to the Hermitage of Sant Crist\nVisite à l’Ermitage de Sant Crist
URL:https://www.visitbocairent.es/visita/visita-a-lermita-del-sant-crist-56/
LOCATION:Ermita del Sant Crist\, Bocairent\, Valencia\, 46880\, Espanya
ATTACH;FMTTYPE=image/png:https://www.visitbocairent.es/wp-content/uploads/2022/11/sant-crist-aerea-AB.png
ORGANIZER;CN="Parr%C3%B2quia%20de%20Bocairent":MAILTO:info@visitbocairent.es
GEO:38.77343976183;-0.6101910953465
END:VEVENT
BEGIN:VEVENT
DTSTART;TZID=Europe/Madrid:20240225T110000
DTEND;TZID=Europe/Madrid:20240225T120000
DTSTAMP:20260421T202405
CREATED:20240131T054201Z
LAST-MODIFIED:20240131T054235Z
UID:10001482-1708858800-1708862400@www.visitbocairent.es
SUMMARY:Visita a l'ermita del Sant Crist
DESCRIPTION:Visita a la Ermita del Santo Cristo\nVisit to the Hermitage of Sant Crist\nVisite à l’Ermitage de Sant Crist
URL:https://www.visitbocairent.es/visita/visita-a-lermita-del-sant-crist-57/
LOCATION:Ermita del Sant Crist\, Bocairent\, Valencia\, 46880\, Espanya
ATTACH;FMTTYPE=image/png:https://www.visitbocairent.es/wp-content/uploads/2022/11/sant-crist-aerea-AB.png
ORGANIZER;CN="Parr%C3%B2quia%20de%20Bocairent":MAILTO:info@visitbocairent.es
GEO:38.77343976183;-0.6101910953465
END:VEVENT
BEGIN:VEVENT
DTSTART;TZID=Europe/Madrid:20240303T110000
DTEND;TZID=Europe/Madrid:20240303T120000
DTSTAMP:20260421T202405
CREATED:20240303T080907Z
LAST-MODIFIED:20240303T080949Z
UID:10001693-1709463600-1709467200@www.visitbocairent.es
SUMMARY:Visita a l'ermita del Sant Crist
DESCRIPTION:Visita a la Ermita del Santo Cristo\nVisit to the Hermitage of Sant Crist\nVisite à l’Ermitage de Sant Crist
URL:https://www.visitbocairent.es/visita/visita-a-lermita-del-sant-crist-59/
LOCATION:Ermita del Sant Crist\, Bocairent\, Valencia\, 46880\, Espanya
ATTACH;FMTTYPE=image/png:https://www.visitbocairent.es/wp-content/uploads/2022/11/sant-crist-aerea-AB.png
ORGANIZER;CN="Parr%C3%B2quia%20de%20Bocairent":MAILTO:info@visitbocairent.es
GEO:38.77343976183;-0.6101910953465
END:VEVENT
BEGIN:VEVENT
DTSTART;TZID=Europe/Madrid:20240310T110000
DTEND;TZID=Europe/Madrid:20240310T120000
DTSTAMP:20260421T202405
CREATED:20240303T080959Z
LAST-MODIFIED:20240303T081222Z
UID:10001694-1710068400-1710072000@www.visitbocairent.es
SUMMARY:Visita a l'ermita del Sant Crist
DESCRIPTION:Visita a la Ermita del Santo Cristo\nVisit to the Hermitage of Sant Crist\nVisite à l’Ermitage de Sant Crist
URL:https://www.visitbocairent.es/visita/visita-a-lermita-del-sant-crist-60/
LOCATION:Ermita del Sant Crist\, Bocairent\, Valencia\, 46880\, Espanya
ATTACH;FMTTYPE=image/png:https://www.visitbocairent.es/wp-content/uploads/2022/11/sant-crist-aerea-AB.png
ORGANIZER;CN="Parr%C3%B2quia%20de%20Bocairent":MAILTO:info@visitbocairent.es
GEO:38.77343976183;-0.6101910953465
END:VEVENT
BEGIN:VEVENT
DTSTART;TZID=Europe/Madrid:20240317T110000
DTEND;TZID=Europe/Madrid:20240317T120000
DTSTAMP:20260421T202405
CREATED:20240303T081036Z
LAST-MODIFIED:20240303T081250Z
UID:10001695-1710673200-1710676800@www.visitbocairent.es
SUMMARY:Visita a l'ermita del Sant Crist
DESCRIPTION:Visita a la Ermita del Santo Cristo\nVisit to the Hermitage of Sant Crist\nVisite à l’Ermitage de Sant Crist
URL:https://www.visitbocairent.es/visita/visita-a-lermita-del-sant-crist-61/
LOCATION:Ermita del Sant Crist\, Bocairent\, Valencia\, 46880\, Espanya
ATTACH;FMTTYPE=image/png:https://www.visitbocairent.es/wp-content/uploads/2022/11/sant-crist-aerea-AB.png
ORGANIZER;CN="Parr%C3%B2quia%20de%20Bocairent":MAILTO:info@visitbocairent.es
GEO:38.77343976183;-0.6101910953465
END:VEVENT
BEGIN:VEVENT
DTSTART;TZID=Europe/Madrid:20240324T110000
DTEND;TZID=Europe/Madrid:20240324T120000
DTSTAMP:20260421T202405
CREATED:20240303T081111Z
LAST-MODIFIED:20240303T081149Z
UID:10001696-1711278000-1711281600@www.visitbocairent.es
SUMMARY:Visita a l'ermita del Sant Crist
DESCRIPTION:Visita a la Ermita del Santo Cristo\nVisit to the Hermitage of Sant Crist\nVisite à l’Ermitage de Sant Crist
URL:https://www.visitbocairent.es/visita/visita-a-lermita-del-sant-crist-62/
LOCATION:Ermita del Sant Crist\, Bocairent\, Valencia\, 46880\, Espanya
ATTACH;FMTTYPE=image/png:https://www.visitbocairent.es/wp-content/uploads/2022/11/sant-crist-aerea-AB.png
ORGANIZER;CN="Parr%C3%B2quia%20de%20Bocairent":MAILTO:info@visitbocairent.es
GEO:38.77343976183;-0.6101910953465
END:VEVENT
BEGIN:VEVENT
DTSTART;TZID=Europe/Madrid:20240329T110000
DTEND;TZID=Europe/Madrid:20240329T120000
DTSTAMP:20260421T202405
CREATED:20240324T075320Z
LAST-MODIFIED:20240324T075427Z
UID:10001843-1711710000-1711713600@www.visitbocairent.es
SUMMARY:Visita a l'ermita del Sant Crist
DESCRIPTION:Visita a la Ermita del Santo Cristo\nVisit to the Hermitage of Sant Crist\nVisite à l’Ermitage de Sant Crist
URL:https://www.visitbocairent.es/visita/visita-a-lermita-del-sant-crist-64/
LOCATION:Ermita del Sant Crist\, Bocairent\, Valencia\, 46880\, Espanya
ATTACH;FMTTYPE=image/png:https://www.visitbocairent.es/wp-content/uploads/2022/11/sant-crist-aerea-AB.png
ORGANIZER;CN="Parr%C3%B2quia%20de%20Bocairent":MAILTO:info@visitbocairent.es
GEO:38.77343976183;-0.6101910953465
END:VEVENT
BEGIN:VEVENT
DTSTART;TZID=Europe/Madrid:20240330T110000
DTEND;TZID=Europe/Madrid:20240330T120000
DTSTAMP:20260421T202405
CREATED:20240324T075431Z
LAST-MODIFIED:20240324T075523Z
UID:10001844-1711796400-1711800000@www.visitbocairent.es
SUMMARY:Visita a l'ermita del Sant Crist
DESCRIPTION:Visita a la Ermita del Santo Cristo\nVisit to the Hermitage of Sant Crist\nVisite à l’Ermitage de Sant Crist
URL:https://www.visitbocairent.es/visita/visita-a-lermita-del-sant-crist-65/
LOCATION:Ermita del Sant Crist\, Bocairent\, Valencia\, 46880\, Espanya
ATTACH;FMTTYPE=image/png:https://www.visitbocairent.es/wp-content/uploads/2022/11/sant-crist-aerea-AB.png
ORGANIZER;CN="Parr%C3%B2quia%20de%20Bocairent":MAILTO:info@visitbocairent.es
GEO:38.77343976183;-0.6101910953465
END:VEVENT
BEGIN:VEVENT
DTSTART;TZID=Europe/Madrid:20240331T110000
DTEND;TZID=Europe/Madrid:20240331T120000
DTSTAMP:20260421T202405
CREATED:20240324T075529Z
LAST-MODIFIED:20240324T075604Z
UID:10001845-1711882800-1711886400@www.visitbocairent.es
SUMMARY:Visita a l'ermita del Sant Crist
DESCRIPTION:Visita a la Ermita del Santo Cristo\nVisit to the Hermitage of Sant Crist\nVisite à l’Ermitage de Sant Crist
URL:https://www.visitbocairent.es/visita/visita-a-lermita-del-sant-crist-66/
LOCATION:Ermita del Sant Crist\, Bocairent\, Valencia\, 46880\, Espanya
ATTACH;FMTTYPE=image/png:https://www.visitbocairent.es/wp-content/uploads/2022/11/sant-crist-aerea-AB.png
ORGANIZER;CN="Parr%C3%B2quia%20de%20Bocairent":MAILTO:info@visitbocairent.es
GEO:38.77343976183;-0.6101910953465
END:VEVENT
END:VCALENDAR