BEGIN:VCALENDAR
VERSION:2.0
PRODID:-//Visit Bocairent - Què veure a Bocairent - ECPv6.0.12//NONSGML v1.0//EN
CALSCALE:GREGORIAN
METHOD:PUBLISH
X-ORIGINAL-URL:https://www.visitbocairent.es
X-WR-CALDESC:Esdeveniments per Visit Bocairent - Què veure a Bocairent
REFRESH-INTERVAL;VALUE=DURATION:PT1H
X-Robots-Tag:noindex
X-PUBLISHED-TTL:PT1H
BEGIN:VTIMEZONE
TZID:Europe/Madrid
BEGIN:DAYLIGHT
TZOFFSETFROM:+0100
TZOFFSETTO:+0200
TZNAME:CEST
DTSTART:20230326T010000
END:DAYLIGHT
BEGIN:STANDARD
TZOFFSETFROM:+0200
TZOFFSETTO:+0100
TZNAME:CET
DTSTART:20231029T010000
END:STANDARD
END:VTIMEZONE
BEGIN:VEVENT
DTSTART;TZID=Europe/Madrid:20230326T110000
DTEND;TZID=Europe/Madrid:20230326T120000
DTSTAMP:20260421T200922
CREATED:20230111T162636Z
LAST-MODIFIED:20230331T193030Z
UID:10000381-1679828400-1679832000@www.visitbocairent.es
SUMMARY:Visita a l’Ermita del Sant Crist
DESCRIPTION:Visita a la Ermita del Santo Cristo\nVisit to the Hermitage of Sant Crist\nVisite à l’Ermitage de Sant Crist
URL:https://www.visitbocairent.es/visita/visita-a-lermita-del-sant-crist-11/
LOCATION:Ermita del Sant Crist\, Bocairent\, Valencia\, 46880\, Espanya
ATTACH;FMTTYPE=image/png:https://www.visitbocairent.es/wp-content/uploads/2022/11/sant-crist-aerea-AB.png
ORGANIZER;CN="Parr%C3%B2quia%20de%20Bocairent":MAILTO:info@visitbocairent.es
GEO:38.77343976183;-0.6101910953465
END:VEVENT
BEGIN:VEVENT
DTSTART;TZID=Europe/Madrid:20230402T080000
DTEND;TZID=Europe/Madrid:20230402T170000
DTSTAMP:20260421T200922
CREATED:20230331T192424Z
LAST-MODIFIED:20230331T192424Z
UID:10000671-1680422400-1680454800@www.visitbocairent.es
SUMMARY:Visita a l'Ermita del Sant Crist
DESCRIPTION:Visita a la Ermita del Santo Cristo\nVisit to the Hermitage of Sant Crist\nVisite à l’Ermitage de Sant Crist
URL:https://www.visitbocairent.es/visita/visita-a-lermita-del-sant-crist-12/2023-04-02/1/
LOCATION:Ermita del Sant Crist\, Bocairent\, Valencia\, 46880\, Espanya
ATTACH;FMTTYPE=image/jpeg:https://www.visitbocairent.es/wp-content/uploads/2022/11/Ermita-Santo-Cristo.jpg
ORGANIZER;CN="Parr%C3%B2quia%20de%20Bocairent":MAILTO:info@visitbocairent.es
GEO:38.77343976183;-0.6101910953465
END:VEVENT
BEGIN:VEVENT
DTSTART;TZID=Europe/Madrid:20230402T110000
DTEND;TZID=Europe/Madrid:20230402T120000
DTSTAMP:20260421T200922
CREATED:20230331T192424Z
LAST-MODIFIED:20230331T192424Z
UID:10000641-1680433200-1680436800@www.visitbocairent.es
SUMMARY:Visita a l'Ermita del Sant Crist
DESCRIPTION:Visita a la Ermita del Santo Cristo\nVisit to the Hermitage of Sant Crist\nVisite à l’Ermitage de Sant Crist
URL:https://www.visitbocairent.es/visita/visita-a-lermita-del-sant-crist-12/2023-04-02/2/
LOCATION:Ermita del Sant Crist\, Bocairent\, Valencia\, 46880\, Espanya
ATTACH;FMTTYPE=image/jpeg:https://www.visitbocairent.es/wp-content/uploads/2022/11/Ermita-Santo-Cristo.jpg
ORGANIZER;CN="Parr%C3%B2quia%20de%20Bocairent":MAILTO:info@visitbocairent.es
GEO:38.77343976183;-0.6101910953465
END:VEVENT
BEGIN:VEVENT
DTSTART;TZID=Europe/Madrid:20230409T110000
DTEND;TZID=Europe/Madrid:20230409T120000
DTSTAMP:20260421T200922
CREATED:20230403T151546Z
LAST-MODIFIED:20230403T151651Z
UID:10000642-1681038000-1681041600@www.visitbocairent.es
SUMMARY:Visita a l'Ermita del Sant Crist
DESCRIPTION:Visita a la Ermita del Santo Cristo\nVisit to the Hermitage of Sant Crist\nVisite à l’Ermitage de Sant Crist
URL:https://www.visitbocairent.es/visita/visita-a-lermita-del-sant-crist-13/
LOCATION:Ermita del Sant Crist\, Bocairent\, Valencia\, 46880\, Espanya
ATTACH;FMTTYPE=image/jpeg:https://www.visitbocairent.es/wp-content/uploads/2022/11/Ermita-Santo-Cristo.jpg
ORGANIZER;CN="Parr%C3%B2quia%20de%20Bocairent":MAILTO:info@visitbocairent.es
GEO:38.77343976183;-0.6101910953465
END:VEVENT
BEGIN:VEVENT
DTSTART;TZID=Europe/Madrid:20230416T110000
DTEND;TZID=Europe/Madrid:20230416T120000
DTSTAMP:20260421T200922
CREATED:20230403T151713Z
LAST-MODIFIED:20230403T151803Z
UID:10000643-1681642800-1681646400@www.visitbocairent.es
SUMMARY:Visita a l'Ermita del Sant Crist
DESCRIPTION:Visita a la Ermita del Santo Cristo\nVisit to the Hermitage of Sant Crist\nVisite à l’Ermitage de Sant Crist
URL:https://www.visitbocairent.es/visita/visita-a-lermita-del-sant-crist-14/
LOCATION:Ermita del Sant Crist\, Bocairent\, Valencia\, 46880\, Espanya
ATTACH;FMTTYPE=image/jpeg:https://www.visitbocairent.es/wp-content/uploads/2022/11/Ermita-Santo-Cristo.jpg
ORGANIZER;CN="Parr%C3%B2quia%20de%20Bocairent":MAILTO:info@visitbocairent.es
GEO:38.77343976183;-0.6101910953465
END:VEVENT
BEGIN:VEVENT
DTSTART;TZID=Europe/Madrid:20230423T110000
DTEND;TZID=Europe/Madrid:20230423T120000
DTSTAMP:20260421T200922
CREATED:20230403T151814Z
LAST-MODIFIED:20230403T151902Z
UID:10000644-1682247600-1682251200@www.visitbocairent.es
SUMMARY:Visita a l'Ermita del Sant Crist
DESCRIPTION:Visita a la Ermita del Santo Cristo\nVisit to the Hermitage of Sant Crist\nVisite à l’Ermitage de Sant Crist
URL:https://www.visitbocairent.es/visita/visita-a-lermita-del-sant-crist-15/
LOCATION:Ermita del Sant Crist\, Bocairent\, Valencia\, 46880\, Espanya
ATTACH;FMTTYPE=image/jpeg:https://www.visitbocairent.es/wp-content/uploads/2022/11/Ermita-Santo-Cristo.jpg
ORGANIZER;CN="Parr%C3%B2quia%20de%20Bocairent":MAILTO:info@visitbocairent.es
GEO:38.77343976183;-0.6101910953465
END:VEVENT
BEGIN:VEVENT
DTSTART;TZID=Europe/Madrid:20230430T110000
DTEND;TZID=Europe/Madrid:20230430T120000
DTSTAMP:20260421T200922
CREATED:20230403T151919Z
LAST-MODIFIED:20230403T152003Z
UID:10000645-1682852400-1682856000@www.visitbocairent.es
SUMMARY:Visita a l'Ermita del Sant Crist
DESCRIPTION:Visita a la Ermita del Santo Cristo\nVisit to the Hermitage of Sant Crist\nVisite à l’Ermitage de Sant Crist
URL:https://www.visitbocairent.es/visita/visita-a-lermita-del-sant-crist-16/
LOCATION:Ermita del Sant Crist\, Bocairent\, Valencia\, 46880\, Espanya
ATTACH;FMTTYPE=image/jpeg:https://www.visitbocairent.es/wp-content/uploads/2022/11/Ermita-Santo-Cristo.jpg
ORGANIZER;CN="Parr%C3%B2quia%20de%20Bocairent":MAILTO:info@visitbocairent.es
GEO:38.77343976183;-0.6101910953465
END:VEVENT
BEGIN:VEVENT
DTSTART;TZID=Europe/Madrid:20230507T110000
DTEND;TZID=Europe/Madrid:20230507T120000
DTSTAMP:20260421T200922
CREATED:20230506T075130Z
LAST-MODIFIED:20230506T075212Z
UID:10001171-1683457200-1683460800@www.visitbocairent.es
SUMMARY:Visita a l’Ermita del Sant Crist
DESCRIPTION:Visita a la Ermita del Santo Cristo\nVisit to the Hermitage of Sant Crist\nVisite à l’Ermitage de Sant Crist
URL:https://www.visitbocairent.es/visita/visita-a-lermita-del-sant-crist-18/
LOCATION:Ermita del Sant Crist\, Bocairent\, Valencia\, 46880\, Espanya
ATTACH;FMTTYPE=image/png:https://www.visitbocairent.es/wp-content/uploads/2022/11/sant-crist-aerea-AB.png
ORGANIZER;CN="Parr%C3%B2quia%20de%20Bocairent":MAILTO:info@visitbocairent.es
GEO:38.77343976183;-0.6101910953465
END:VEVENT
BEGIN:VEVENT
DTSTART;TZID=Europe/Madrid:20230514T110000
DTEND;TZID=Europe/Madrid:20230514T120000
DTSTAMP:20260421T200922
CREATED:20230506T075320Z
LAST-MODIFIED:20230506T075358Z
UID:10001172-1684062000-1684065600@www.visitbocairent.es
SUMMARY:Visita a l’Ermita del Sant Crist
DESCRIPTION:Visita a la Ermita del Santo Cristo\nVisit to the Hermitage of Sant Crist\nVisite à l’Ermitage de Sant Crist
URL:https://www.visitbocairent.es/visita/visita-a-lermita-del-sant-crist-19/
LOCATION:Ermita del Sant Crist\, Bocairent\, Valencia\, 46880\, Espanya
ATTACH;FMTTYPE=image/png:https://www.visitbocairent.es/wp-content/uploads/2022/11/sant-crist-aerea-AB.png
ORGANIZER;CN="Parr%C3%B2quia%20de%20Bocairent":MAILTO:info@visitbocairent.es
GEO:38.77343976183;-0.6101910953465
END:VEVENT
BEGIN:VEVENT
DTSTART;TZID=Europe/Madrid:20230521T110000
DTEND;TZID=Europe/Madrid:20230521T120000
DTSTAMP:20260421T200922
CREATED:20230506T075402Z
LAST-MODIFIED:20230508T081827Z
UID:10001173-1684666800-1684670400@www.visitbocairent.es
SUMMARY:Visita a l’Ermita del Sant Crist
DESCRIPTION:Visita a la Ermita del Santo Cristo\nVisit to the Hermitage of Sant Crist\nVisite à l’Ermitage de Sant Crist
URL:https://www.visitbocairent.es/visita/visita-a-lermita-del-sant-crist-20/
LOCATION:Ermita del Sant Crist\, Bocairent\, Valencia\, 46880\, Espanya
ATTACH;FMTTYPE=image/png:https://www.visitbocairent.es/wp-content/uploads/2022/11/sant-crist-aerea-AB.png
ORGANIZER;CN="Parr%C3%B2quia%20de%20Bocairent":MAILTO:info@visitbocairent.es
GEO:38.77343976183;-0.6101910953465
END:VEVENT
BEGIN:VEVENT
DTSTART;TZID=Europe/Madrid:20230528T110000
DTEND;TZID=Europe/Madrid:20230528T120000
DTSTAMP:20260421T200922
CREATED:20230506T075457Z
LAST-MODIFIED:20230506T075535Z
UID:10001174-1685271600-1685275200@www.visitbocairent.es
SUMMARY:Visita a l’Ermita del Sant Crist
DESCRIPTION:Visita a la Ermita del Santo Cristo\nVisit to the Hermitage of Sant Crist\nVisite à l’Ermitage de Sant Crist
URL:https://www.visitbocairent.es/visita/visita-a-lermita-del-sant-crist-21/
LOCATION:Ermita del Sant Crist\, Bocairent\, Valencia\, 46880\, Espanya
ATTACH;FMTTYPE=image/png:https://www.visitbocairent.es/wp-content/uploads/2022/11/sant-crist-aerea-AB.png
ORGANIZER;CN="Parr%C3%B2quia%20de%20Bocairent":MAILTO:info@visitbocairent.es
GEO:38.77343976183;-0.6101910953465
END:VEVENT
BEGIN:VEVENT
DTSTART;TZID=Europe/Madrid:20230604T110000
DTEND;TZID=Europe/Madrid:20230604T120000
DTSTAMP:20260421T200922
CREATED:20230506T075540Z
LAST-MODIFIED:20230506T075618Z
UID:10001175-1685876400-1685880000@www.visitbocairent.es
SUMMARY:Visita a l’Ermita del Sant Crist
DESCRIPTION:Visita a la Ermita del Santo Cristo\nVisit to the Hermitage of Sant Crist\nVisite à l’Ermitage de Sant Crist
URL:https://www.visitbocairent.es/visita/visita-a-lermita-del-sant-crist-22/
LOCATION:Ermita del Sant Crist\, Bocairent\, Valencia\, 46880\, Espanya
ATTACH;FMTTYPE=image/png:https://www.visitbocairent.es/wp-content/uploads/2022/11/sant-crist-aerea-AB.png
ORGANIZER;CN="Parr%C3%B2quia%20de%20Bocairent":MAILTO:info@visitbocairent.es
GEO:38.77343976183;-0.6101910953465
END:VEVENT
BEGIN:VEVENT
DTSTART;TZID=Europe/Madrid:20230611T110000
DTEND;TZID=Europe/Madrid:20230611T120000
DTSTAMP:20260421T200922
CREATED:20230506T075628Z
LAST-MODIFIED:20230506T075704Z
UID:10001176-1686481200-1686484800@www.visitbocairent.es
SUMMARY:Visita a l’Ermita del Sant Crist
DESCRIPTION:Visita a la Ermita del Santo Cristo\nVisit to the Hermitage of Sant Crist\nVisite à l’Ermitage de Sant Crist
URL:https://www.visitbocairent.es/visita/visita-a-lermita-del-sant-crist-23/
LOCATION:Ermita del Sant Crist\, Bocairent\, Valencia\, 46880\, Espanya
ATTACH;FMTTYPE=image/png:https://www.visitbocairent.es/wp-content/uploads/2022/11/sant-crist-aerea-AB.png
ORGANIZER;CN="Parr%C3%B2quia%20de%20Bocairent":MAILTO:info@visitbocairent.es
GEO:38.77343976183;-0.6101910953465
END:VEVENT
BEGIN:VEVENT
DTSTART;TZID=Europe/Madrid:20230618T110000
DTEND;TZID=Europe/Madrid:20230618T120000
DTSTAMP:20260421T200922
CREATED:20230506T075708Z
LAST-MODIFIED:20230506T075935Z
UID:10001177-1687086000-1687089600@www.visitbocairent.es
SUMMARY:Visita a l’Ermita del Sant Crist
DESCRIPTION:Visita a la Ermita del Santo Cristo\nVisit to the Hermitage of Sant Crist\nVisite à l’Ermitage de Sant Crist
URL:https://www.visitbocairent.es/visita/visita-a-lermita-del-sant-crist-24/
LOCATION:Ermita del Sant Crist\, Bocairent\, Valencia\, 46880\, Espanya
ATTACH;FMTTYPE=image/png:https://www.visitbocairent.es/wp-content/uploads/2022/11/sant-crist-aerea-AB.png
ORGANIZER;CN="Parr%C3%B2quia%20de%20Bocairent":MAILTO:info@visitbocairent.es
GEO:38.77343976183;-0.6101910953465
END:VEVENT
BEGIN:VEVENT
DTSTART;TZID=Europe/Madrid:20230625T110000
DTEND;TZID=Europe/Madrid:20230625T120000
DTSTAMP:20260421T200922
CREATED:20230506T075747Z
LAST-MODIFIED:20230506T075828Z
UID:10001178-1687690800-1687694400@www.visitbocairent.es
SUMMARY:Visita a l’Ermita del Sant Crist
DESCRIPTION:Visita a la Ermita del Santo Cristo\nVisit to the Hermitage of Sant Crist\nVisite à l’Ermitage de Sant Crist
URL:https://www.visitbocairent.es/visita/visita-a-lermita-del-sant-crist-25/
LOCATION:Ermita del Sant Crist\, Bocairent\, Valencia\, 46880\, Espanya
ATTACH;FMTTYPE=image/png:https://www.visitbocairent.es/wp-content/uploads/2022/11/sant-crist-aerea-AB.png
ORGANIZER;CN="Parr%C3%B2quia%20de%20Bocairent":MAILTO:info@visitbocairent.es
GEO:38.77343976183;-0.6101910953465
END:VEVENT
BEGIN:VEVENT
DTSTART;TZID=Europe/Madrid:20230702T110000
DTEND;TZID=Europe/Madrid:20230702T120000
DTSTAMP:20260421T200922
CREATED:20230506T075953Z
LAST-MODIFIED:20230506T080036Z
UID:10001179-1688295600-1688299200@www.visitbocairent.es
SUMMARY:Visita a l’Ermita del Sant Crist
DESCRIPTION:Visita a la Ermita del Santo Cristo\nVisit to the Hermitage of Sant Crist\nVisite à l’Ermitage de Sant Crist
URL:https://www.visitbocairent.es/visita/visita-a-lermita-del-sant-crist-26/
LOCATION:Ermita del Sant Crist\, Bocairent\, Valencia\, 46880\, Espanya
ATTACH;FMTTYPE=image/png:https://www.visitbocairent.es/wp-content/uploads/2022/11/sant-crist-aerea-AB.png
ORGANIZER;CN="Parr%C3%B2quia%20de%20Bocairent":MAILTO:info@visitbocairent.es
GEO:38.77343976183;-0.6101910953465
END:VEVENT
BEGIN:VEVENT
DTSTART;TZID=Europe/Madrid:20230709T110000
DTEND;TZID=Europe/Madrid:20230709T120000
DTSTAMP:20260421T200922
CREATED:20230506T080043Z
LAST-MODIFIED:20230506T080122Z
UID:10001180-1688900400-1688904000@www.visitbocairent.es
SUMMARY:Visita a l’Ermita del Sant Crist
DESCRIPTION:Visita a la Ermita del Santo Cristo\nVisit to the Hermitage of Sant Crist\nVisite à l’Ermitage de Sant Crist
URL:https://www.visitbocairent.es/visita/visita-a-lermita-del-sant-crist-27/
LOCATION:Ermita del Sant Crist\, Bocairent\, Valencia\, 46880\, Espanya
ATTACH;FMTTYPE=image/png:https://www.visitbocairent.es/wp-content/uploads/2022/11/sant-crist-aerea-AB.png
ORGANIZER;CN="Parr%C3%B2quia%20de%20Bocairent":MAILTO:info@visitbocairent.es
GEO:38.77343976183;-0.6101910953465
END:VEVENT
BEGIN:VEVENT
DTSTART;TZID=Europe/Madrid:20230716T110000
DTEND;TZID=Europe/Madrid:20230716T120000
DTSTAMP:20260421T200922
CREATED:20230506T080129Z
LAST-MODIFIED:20230506T080203Z
UID:10001181-1689505200-1689508800@www.visitbocairent.es
SUMMARY:Visita a l’Ermita del Sant Crist
DESCRIPTION:Visita a la Ermita del Santo Cristo\nVisit to the Hermitage of Sant Crist\nVisite à l’Ermitage de Sant Crist
URL:https://www.visitbocairent.es/visita/visita-a-lermita-del-sant-crist-28/
LOCATION:Ermita del Sant Crist\, Bocairent\, Valencia\, 46880\, Espanya
ATTACH;FMTTYPE=image/png:https://www.visitbocairent.es/wp-content/uploads/2022/11/sant-crist-aerea-AB.png
ORGANIZER;CN="Parr%C3%B2quia%20de%20Bocairent":MAILTO:info@visitbocairent.es
GEO:38.77343976183;-0.6101910953465
END:VEVENT
BEGIN:VEVENT
DTSTART;TZID=Europe/Madrid:20230723T110000
DTEND;TZID=Europe/Madrid:20230723T120000
DTSTAMP:20260421T200922
CREATED:20230506T080207Z
LAST-MODIFIED:20230506T080242Z
UID:10001182-1690110000-1690113600@www.visitbocairent.es
SUMMARY:Visita a l’Ermita del Sant Crist
DESCRIPTION:Visita a la Ermita del Santo Cristo\nVisit to the Hermitage of Sant Crist\nVisite à l’Ermitage de Sant Crist
URL:https://www.visitbocairent.es/visita/visita-a-lermita-del-sant-crist-29/
LOCATION:Ermita del Sant Crist\, Bocairent\, Valencia\, 46880\, Espanya
ATTACH;FMTTYPE=image/png:https://www.visitbocairent.es/wp-content/uploads/2022/11/sant-crist-aerea-AB.png
ORGANIZER;CN="Parr%C3%B2quia%20de%20Bocairent":MAILTO:info@visitbocairent.es
GEO:38.77343976183;-0.6101910953465
END:VEVENT
BEGIN:VEVENT
DTSTART;TZID=Europe/Madrid:20230730T110000
DTEND;TZID=Europe/Madrid:20230730T120000
DTSTAMP:20260421T200922
CREATED:20230506T080248Z
LAST-MODIFIED:20230506T080334Z
UID:10001183-1690714800-1690718400@www.visitbocairent.es
SUMMARY:Visita a l’Ermita del Sant Crist
DESCRIPTION:Visita a la Ermita del Santo Cristo\nVisit to the Hermitage of Sant Crist\nVisite à l’Ermitage de Sant Crist
URL:https://www.visitbocairent.es/visita/visita-a-lermita-del-sant-crist-30/
LOCATION:Ermita del Sant Crist\, Bocairent\, Valencia\, 46880\, Espanya
ATTACH;FMTTYPE=image/png:https://www.visitbocairent.es/wp-content/uploads/2022/11/sant-crist-aerea-AB.png
ORGANIZER;CN="Parr%C3%B2quia%20de%20Bocairent":MAILTO:info@visitbocairent.es
GEO:38.77343976183;-0.6101910953465
END:VEVENT
BEGIN:VEVENT
DTSTART;TZID=Europe/Madrid:20230806T110000
DTEND;TZID=Europe/Madrid:20230806T120000
DTSTAMP:20260421T200922
CREATED:20230506T080357Z
LAST-MODIFIED:20230506T080446Z
UID:10001184-1691319600-1691323200@www.visitbocairent.es
SUMMARY:Visita a l’Ermita del Sant Crist
DESCRIPTION:Visita a la Ermita del Santo Cristo\nVisit to the Hermitage of Sant Crist\nVisite à l’Ermitage de Sant Crist
URL:https://www.visitbocairent.es/visita/visita-a-lermita-del-sant-crist-31/
LOCATION:Ermita del Sant Crist\, Bocairent\, Valencia\, 46880\, Espanya
ATTACH;FMTTYPE=image/png:https://www.visitbocairent.es/wp-content/uploads/2022/11/sant-crist-aerea-AB.png
ORGANIZER;CN="Parr%C3%B2quia%20de%20Bocairent":MAILTO:info@visitbocairent.es
GEO:38.77343976183;-0.6101910953465
END:VEVENT
BEGIN:VEVENT
DTSTART;TZID=Europe/Madrid:20230813T110000
DTEND;TZID=Europe/Madrid:20230813T120000
DTSTAMP:20260421T200922
CREATED:20230506T080457Z
LAST-MODIFIED:20230506T080538Z
UID:10001185-1691924400-1691928000@www.visitbocairent.es
SUMMARY:Visita a l’Ermita del Sant Crist
DESCRIPTION:Visita a la Ermita del Santo Cristo\nVisit to the Hermitage of Sant Crist\nVisite à l’Ermitage de Sant Crist
URL:https://www.visitbocairent.es/visita/visita-a-lermita-del-sant-crist-32/
LOCATION:Ermita del Sant Crist\, Bocairent\, Valencia\, 46880\, Espanya
ATTACH;FMTTYPE=image/png:https://www.visitbocairent.es/wp-content/uploads/2022/11/sant-crist-aerea-AB.png
ORGANIZER;CN="Parr%C3%B2quia%20de%20Bocairent":MAILTO:info@visitbocairent.es
GEO:38.77343976183;-0.6101910953465
END:VEVENT
BEGIN:VEVENT
DTSTART;TZID=Europe/Madrid:20230820T110000
DTEND;TZID=Europe/Madrid:20230820T120000
DTSTAMP:20260421T200922
CREATED:20230506T080541Z
LAST-MODIFIED:20230506T080619Z
UID:10001186-1692529200-1692532800@www.visitbocairent.es
SUMMARY:Visita a l’Ermita del Sant Crist
DESCRIPTION:Visita a la Ermita del Santo Cristo\nVisit to the Hermitage of Sant Crist\nVisite à l’Ermitage de Sant Crist
URL:https://www.visitbocairent.es/visita/visita-a-lermita-del-sant-crist-33/
LOCATION:Ermita del Sant Crist\, Bocairent\, Valencia\, 46880\, Espanya
ATTACH;FMTTYPE=image/png:https://www.visitbocairent.es/wp-content/uploads/2022/11/sant-crist-aerea-AB.png
ORGANIZER;CN="Parr%C3%B2quia%20de%20Bocairent":MAILTO:info@visitbocairent.es
GEO:38.77343976183;-0.6101910953465
END:VEVENT
BEGIN:VEVENT
DTSTART;TZID=Europe/Madrid:20230827T110000
DTEND;TZID=Europe/Madrid:20230827T120000
DTSTAMP:20260421T200922
CREATED:20230506T080623Z
LAST-MODIFIED:20230506T080658Z
UID:10001187-1693134000-1693137600@www.visitbocairent.es
SUMMARY:Visita a l’Ermita del Sant Crist
DESCRIPTION:Visita a la Ermita del Santo Cristo\nVisit to the Hermitage of Sant Crist\nVisite à l’Ermitage de Sant Crist
URL:https://www.visitbocairent.es/visita/visita-a-lermita-del-sant-crist-34/
LOCATION:Ermita del Sant Crist\, Bocairent\, Valencia\, 46880\, Espanya
ATTACH;FMTTYPE=image/png:https://www.visitbocairent.es/wp-content/uploads/2022/11/sant-crist-aerea-AB.png
ORGANIZER;CN="Parr%C3%B2quia%20de%20Bocairent":MAILTO:info@visitbocairent.es
GEO:38.77343976183;-0.6101910953465
END:VEVENT
BEGIN:VEVENT
DTSTART;TZID=Europe/Madrid:20230903T110000
DTEND;TZID=Europe/Madrid:20230903T120000
DTSTAMP:20260421T200922
CREATED:20230827T075851Z
LAST-MODIFIED:20230827T075941Z
UID:10001259-1693738800-1693742400@www.visitbocairent.es
SUMMARY:Visita a l'Ermita del Sant Crist
DESCRIPTION:Visita a la Ermita del Santo Cristo\nVisit to the Hermitage of Sant Crist\nVisite à l’Ermitage de Sant Crist
URL:https://www.visitbocairent.es/visita/visita-a-lermita-del-sant-crist-36/
LOCATION:Ermita del Sant Crist\, Bocairent\, Valencia\, 46880\, Espanya
ATTACH;FMTTYPE=image/png:https://www.visitbocairent.es/wp-content/uploads/2022/11/sant-crist-aerea-AB.png
ORGANIZER;CN="Parr%C3%B2quia%20de%20Bocairent":MAILTO:info@visitbocairent.es
GEO:38.77343976183;-0.6101910953465
END:VEVENT
BEGIN:VEVENT
DTSTART;TZID=Europe/Madrid:20230910T110000
DTEND;TZID=Europe/Madrid:20230910T120000
DTSTAMP:20260421T200922
CREATED:20230827T075944Z
LAST-MODIFIED:20230827T080029Z
UID:10001260-1694343600-1694347200@www.visitbocairent.es
SUMMARY:Visita a l'Ermita del Sant Crist
DESCRIPTION:Visita a la Ermita del Santo Cristo\nVisit to the Hermitage of Sant Crist\nVisite à l’Ermitage de Sant Crist
URL:https://www.visitbocairent.es/visita/visita-a-lermita-del-sant-crist-37/
LOCATION:Ermita del Sant Crist\, Bocairent\, Valencia\, 46880\, Espanya
ATTACH;FMTTYPE=image/png:https://www.visitbocairent.es/wp-content/uploads/2022/11/sant-crist-aerea-AB.png
ORGANIZER;CN="Parr%C3%B2quia%20de%20Bocairent":MAILTO:info@visitbocairent.es
GEO:38.77343976183;-0.6101910953465
END:VEVENT
BEGIN:VEVENT
DTSTART;TZID=Europe/Madrid:20230917T110000
DTEND;TZID=Europe/Madrid:20230917T120000
DTSTAMP:20260421T200922
CREATED:20230827T080039Z
LAST-MODIFIED:20230827T080127Z
UID:10001261-1694948400-1694952000@www.visitbocairent.es
SUMMARY:Visita a l'Ermita del Sant Crist
DESCRIPTION:Visita a la Ermita del Santo Cristo\nVisit to the Hermitage of Sant Crist\nVisite à l’Ermitage de Sant Crist
URL:https://www.visitbocairent.es/visita/visita-a-lermita-del-sant-crist-38/
LOCATION:Ermita del Sant Crist\, Bocairent\, Valencia\, 46880\, Espanya
ATTACH;FMTTYPE=image/png:https://www.visitbocairent.es/wp-content/uploads/2022/11/sant-crist-aerea-AB.png
ORGANIZER;CN="Parr%C3%B2quia%20de%20Bocairent":MAILTO:info@visitbocairent.es
GEO:38.77343976183;-0.6101910953465
END:VEVENT
BEGIN:VEVENT
DTSTART;TZID=Europe/Madrid:20230924T110000
DTEND;TZID=Europe/Madrid:20230924T120000
DTSTAMP:20260421T200922
CREATED:20230827T080136Z
LAST-MODIFIED:20230827T080217Z
UID:10001262-1695553200-1695556800@www.visitbocairent.es
SUMMARY:Visita a l'Ermita del Sant Crist
DESCRIPTION:Visita a la Ermita del Santo Cristo\nVisit to the Hermitage of Sant Crist\nVisite à l’Ermitage de Sant Crist
URL:https://www.visitbocairent.es/visita/visita-a-lermita-del-sant-crist-39/
LOCATION:Ermita del Sant Crist\, Bocairent\, Valencia\, 46880\, Espanya
ATTACH;FMTTYPE=image/png:https://www.visitbocairent.es/wp-content/uploads/2022/11/sant-crist-aerea-AB.png
ORGANIZER;CN="Parr%C3%B2quia%20de%20Bocairent":MAILTO:info@visitbocairent.es
GEO:38.77343976183;-0.6101910953465
END:VEVENT
BEGIN:VEVENT
DTSTART;TZID=Europe/Madrid:20231001T110000
DTEND;TZID=Europe/Madrid:20231001T120000
DTSTAMP:20260421T200922
CREATED:20230827T075627Z
LAST-MODIFIED:20230827T075801Z
UID:10001263-1696158000-1696161600@www.visitbocairent.es
SUMMARY:Visita a l'Ermita del Sant Crist
DESCRIPTION:Visita a la Ermita del Santo Cristo\nVisit to the Hermitage of Sant Crist\nVisite à l’Ermitage de Sant Crist
URL:https://www.visitbocairent.es/visita/visita-a-lermita-del-sant-crist-35/2023-10-01/
LOCATION:Ermita del Sant Crist\, Bocairent\, Valencia\, 46880\, Espanya
ATTACH;FMTTYPE=image/png:https://www.visitbocairent.es/wp-content/uploads/2022/11/sant-crist-aerea-AB.png
ORGANIZER;CN="Parr%C3%B2quia%20de%20Bocairent":MAILTO:info@visitbocairent.es
GEO:38.77343976183;-0.6101910953465
END:VEVENT
BEGIN:VEVENT
DTSTART;TZID=Europe/Madrid:20231008T110000
DTEND;TZID=Europe/Madrid:20231008T120000
DTSTAMP:20260421T200922
CREATED:20230827T075627Z
LAST-MODIFIED:20230827T075801Z
UID:10001264-1696762800-1696766400@www.visitbocairent.es
SUMMARY:Visita a l'Ermita del Sant Crist
DESCRIPTION:Visita a la Ermita del Santo Cristo\nVisit to the Hermitage of Sant Crist\nVisite à l’Ermitage de Sant Crist
URL:https://www.visitbocairent.es/visita/visita-a-lermita-del-sant-crist-35/2023-10-08/
LOCATION:Ermita del Sant Crist\, Bocairent\, Valencia\, 46880\, Espanya
ATTACH;FMTTYPE=image/png:https://www.visitbocairent.es/wp-content/uploads/2022/11/sant-crist-aerea-AB.png
ORGANIZER;CN="Parr%C3%B2quia%20de%20Bocairent":MAILTO:info@visitbocairent.es
GEO:38.77343976183;-0.6101910953465
END:VEVENT
END:VCALENDAR