BEGIN:VCALENDAR
VERSION:2.0
PRODID:-//Visit Bocairent - What to see in Bocairent - ECPv6.0.12//NONSGML v1.0//EN
CALSCALE:GREGORIAN
METHOD:PUBLISH
X-ORIGINAL-URL:https://www.visitbocairent.es/en/
X-WR-CALDESC:Events for Visit Bocairent - What to see in Bocairent
REFRESH-INTERVAL;VALUE=DURATION:PT1H
X-Robots-Tag:noindex
X-PUBLISHED-TTL:PT1H
BEGIN:VTIMEZONE
TZID:Europe/Madrid
BEGIN:DAYLIGHT
TZOFFSETFROM:+0100
TZOFFSETTO:+0200
TZNAME:CEST
DTSTART:20270328T010000
END:DAYLIGHT
BEGIN:STANDARD
TZOFFSETFROM:+0200
TZOFFSETTO:+0100
TZNAME:CET
DTSTART:20271031T010000
END:STANDARD
END:VTIMEZONE
BEGIN:VEVENT
DTSTART;TZID=Europe/Madrid:20270227T110000
DTEND;TZID=Europe/Madrid:20270228T140000
DTSTAMP:20260423T002551
CREATED:20260314T054728Z
LAST-MODIFIED:20260314T054956Z
UID:10002972-1803726000-1803823200@www.visitbocairent.es
SUMMARY:Visita combinada
DESCRIPTION:Visita combinada: Església + Campanar + Museu parroquial + Monestir Rupestre + MOCB\nVisita combinada: Iglesia + Campanario + Museo parroquial + Monasterio Rupestre +MOCB\nCombined Visit: Church + Bell Tower + Parish Museum + Cave Convent + MOCB\nVisite combinée : Église + Clocher + Musée Paroissial + Monastère du Rocher + MOCB
URL:https://www.visitbocairent.es/en/visita/visita-combinada-180/2027-02-27/
LOCATION:Església Parroquial Ntra. Sra. de l’Assumpció\, C/ Abadia\, 38\, Bocairent\, Valencia\, 46880\, Espanya
ATTACH;FMTTYPE=image/jpeg:https://www.visitbocairent.es/wp-content/uploads/2022/11/combinada.jpg
ORGANIZER;CN="Parr%C3%B2quia%20de%20Bocairent":MAILTO:info@visitbocairent.es
GEO:38.76786068663;-0.60882914599734
X-APPLE-STRUCTURED-LOCATION;VALUE=URI;X-ADDRESS=Església Parroquial Ntra. Sra. de l’Assumpció C/ Abadia 38 Bocairent Valencia 46880 Espanya;X-APPLE-RADIUS=500;X-TITLE=C/ Abadia\, 38:geo:-0.60882914599734,38.76786068663
END:VEVENT
END:VCALENDAR