BEGIN:VCALENDAR
VERSION:2.0
PRODID:-//Visit Bocairent - What to see in Bocairent - ECPv6.0.12//NONSGML v1.0//EN
CALSCALE:GREGORIAN
METHOD:PUBLISH
X-ORIGINAL-URL:https://www.visitbocairent.es/en/
X-WR-CALDESC:Events for Visit Bocairent - What to see in Bocairent
REFRESH-INTERVAL;VALUE=DURATION:PT1H
X-Robots-Tag:noindex
X-PUBLISHED-TTL:PT1H
BEGIN:VTIMEZONE
TZID:Europe/Madrid
BEGIN:DAYLIGHT
TZOFFSETFROM:+0100
TZOFFSETTO:+0200
TZNAME:CEST
DTSTART:20260329T010000
END:DAYLIGHT
BEGIN:STANDARD
TZOFFSETFROM:+0200
TZOFFSETTO:+0100
TZNAME:CET
DTSTART:20261025T010000
END:STANDARD
END:VTIMEZONE
BEGIN:VEVENT
DTSTART;TZID=Europe/Madrid:20260228T113000
DTEND;TZID=Europe/Madrid:20260301T140000
DTSTAMP:20260422T043045
CREATED:20260102T084551Z
LAST-MODIFIED:20260102T084823Z
UID:10002915-1772278200-1772373600@www.visitbocairent.es
SUMMARY:Visita combinada
DESCRIPTION:Visita combinada: Església + Campanar + Museu parroquial + Monestir Rupestre + MOCB\nVisita combinada: Iglesia + Campanario + Museo parroquial + Monasterio Rupestre +MOCB\nCombined Visit: Church + Bell Tower + Parish Museum + Cave Convent + MOCB\nVisite combinée : Église + Clocher + Musée Paroissial + Monastère du Rocher + MOCB
URL:https://www.visitbocairent.es/visita/visita-combinada-179/
LOCATION:Església Parroquial Ntra. Sra. de l’Assumpció\, C/ Abadia\, 38\, Bocairent\, Valencia\, 46880\, Espanya
ATTACH;FMTTYPE=image/jpeg:https://www.visitbocairent.es/wp-content/uploads/2022/11/combinada.jpg
ORGANIZER;CN="Parr%C3%B2quia%20de%20Bocairent":MAILTO:info@visitbocairent.es
GEO:38.76786068663;-0.60882914599734
X-APPLE-STRUCTURED-LOCATION;VALUE=URI;X-ADDRESS=Església Parroquial Ntra. Sra. de l’Assumpció C/ Abadia 38 Bocairent Valencia 46880 Espanya;X-APPLE-RADIUS=500;X-TITLE=C/ Abadia\, 38:geo:-0.60882914599734,38.76786068663
END:VEVENT
BEGIN:VEVENT
DTSTART;TZID=Europe/Madrid:20260301T110000
DTEND;TZID=Europe/Madrid:20260301T120000
DTSTAMP:20260422T043045
CREATED:20260102T085455Z
LAST-MODIFIED:20260102T085533Z
UID:10002920-1772362800-1772366400@www.visitbocairent.es
SUMMARY:Visita a l'ermita del Sant Crist
DESCRIPTION:Visita a la Ermita del Santo Cristo\nVisit to the Hermitage of Sant Crist\nVisite à l’Ermitage de Sant Crist
URL:https://www.visitbocairent.es/visita/visita-a-lermita-del-sant-crist-163/
LOCATION:Ermita del Sant Crist\, Bocairent\, Valencia\, 46880\, Espanya
ATTACH;FMTTYPE=image/png:https://www.visitbocairent.es/wp-content/uploads/2022/11/sant-crist-aerea-AB.png
ORGANIZER;CN="Parr%C3%B2quia%20de%20Bocairent":MAILTO:info@visitbocairent.es
GEO:38.77343976183;-0.6101910953465
END:VEVENT
BEGIN:VEVENT
DTSTART;TZID=Europe/Madrid:20260301T110000
DTEND;TZID=Europe/Madrid:20260301T133000
DTSTAMP:20260422T043045
CREATED:20260102T083534Z
LAST-MODIFIED:20260102T083612Z
UID:10002907-1772362800-1772371800@www.visitbocairent.es
SUMMARY:Visita al Monestir Rupestre
DESCRIPTION:Visita al Monasterio Rupestre / Visit to the Cave Convent / Visite du Monastère du Rocher
URL:https://www.visitbocairent.es/visita/visita-al-monestir-rupestre-206/
LOCATION:Monestir de Bocairent\, Carrer Julian Herrero Aleixandre\, 6\, Bocairent\, Valencia\, 46880
ATTACH;FMTTYPE=image/jpeg:https://www.visitbocairent.es/wp-content/uploads/2022/09/Monestir-Rupestre.jpg
ORGANIZER;CN="Parr%C3%B2quia%20de%20Bocairent":MAILTO:info@visitbocairent.es
GEO:38.766868399789;-0.61154875360899
X-APPLE-STRUCTURED-LOCATION;VALUE=URI;X-ADDRESS=Monestir de Bocairent Carrer Julian Herrero Aleixandre 6 Bocairent Valencia 46880;X-APPLE-RADIUS=500;X-TITLE=Carrer Julian Herrero Aleixandre\, 6:geo:-0.61154875360899,38.766868399789
END:VEVENT
BEGIN:VEVENT
DTSTART;TZID=Europe/Madrid:20260301T113000
DTEND;TZID=Europe/Madrid:20260301T133000
DTSTAMP:20260422T043045
CREATED:20260102T082746Z
LAST-MODIFIED:20260102T082817Z
UID:10002899-1772364600-1772371800@www.visitbocairent.es
SUMMARY:Visita al Museu d'Oficis i Costums de Bocairent
DESCRIPTION:Visita al Museo de Oficios y Costumbres (MOCB) \nVisit to the Trades and Customs Museum (MOCB)\nVisite du Musée des Métiers et des Coutumes (MOCB)
URL:https://www.visitbocairent.es/visita/visita-al-museu-doficis-i-costums-de-bocairent-226/
LOCATION:MOCB\, Carrer de l'Abadia\, 44B\, Bocairent\, Valencia\, 46880\, Espanya
ATTACH;FMTTYPE=image/jpeg:https://www.visitbocairent.es/wp-content/uploads/2022/10/Museu-Oficis-1.jpg
ORGANIZER;CN="Parr%C3%B2quia%20de%20Bocairent":MAILTO:info@visitbocairent.es
GEO:38.76773013433;-0.6090669694041
X-APPLE-STRUCTURED-LOCATION;VALUE=URI;X-ADDRESS=MOCB Carrer de l'Abadia 44B Bocairent Valencia 46880 Espanya;X-APPLE-RADIUS=500;X-TITLE=Carrer de l'Abadia\, 44B:geo:-0.6090669694041,38.76773013433
END:VEVENT
BEGIN:VEVENT
DTSTART;TZID=Europe/Madrid:20260301T124500
DTEND;TZID=Europe/Madrid:20260301T140000
DTSTAMP:20260422T043045
CREATED:20260102T070928Z
LAST-MODIFIED:20260102T071005Z
UID:10002867-1772369100-1772373600@www.visitbocairent.es
SUMMARY:Visita a l'Església i campanar
DESCRIPTION:Visita Iglesia y Campanario / Visit Church and Bell Tower / Visite de l’église et du clocher
URL:https://www.visitbocairent.es/visita/visita-a-lesglesia-i-campanar-55/
LOCATION:Església Parroquial Ntra. Sra. de l’Assumpció\, C/ Abadia\, 38\, Bocairent\, Valencia\, 46880\, Espanya
ATTACH;FMTTYPE=image/png:https://www.visitbocairent.es/wp-content/uploads/2022/09/Esglesia-Assumpcio.png
ORGANIZER;CN="Parr%C3%B2quia%20de%20Bocairent":MAILTO:info@visitbocairent.es
GEO:38.76786068663;-0.60882914599734
X-APPLE-STRUCTURED-LOCATION;VALUE=URI;X-ADDRESS=Església Parroquial Ntra. Sra. de l’Assumpció C/ Abadia 38 Bocairent Valencia 46880 Espanya;X-APPLE-RADIUS=500;X-TITLE=C/ Abadia\, 38:geo:-0.60882914599734,38.76786068663
END:VEVENT
BEGIN:VEVENT
DTSTART;TZID=Europe/Madrid:20260301T124500
DTEND;TZID=Europe/Madrid:20260301T140000
DTSTAMP:20260422T043045
CREATED:20260102T073819Z
LAST-MODIFIED:20260102T073908Z
UID:10002883-1772369100-1772373600@www.visitbocairent.es
SUMMARY:Visita a l'Església\, campanar i Museu Parroquial
DESCRIPTION:Visita Iglesia\, Campanario y Museo Parroquial / Visit the Church\, Bell Tower and Parish Museum / Visitez l’église\, le clocher et le musée paroissial
URL:https://www.visitbocairent.es/visita/visita-a-lesglesia-campanar-i-museu-parroquial-125/
LOCATION:Església Parroquial Ntra. Sra. de l’Assumpció\, C/ Abadia\, 38\, Bocairent\, Valencia\, 46880\, Espanya
ATTACH;FMTTYPE=image/jpeg:https://www.visitbocairent.es/wp-content/uploads/2023/01/esglesia-museu-campanar.jpg
ORGANIZER;CN="Parr%C3%B2quia%20de%20Bocairent":MAILTO:info@visitbocairent.es
GEO:38.76786068663;-0.60882914599734
X-APPLE-STRUCTURED-LOCATION;VALUE=URI;X-ADDRESS=Església Parroquial Ntra. Sra. de l’Assumpció C/ Abadia 38 Bocairent Valencia 46880 Espanya;X-APPLE-RADIUS=500;X-TITLE=C/ Abadia\, 38:geo:-0.60882914599734,38.76786068663
END:VEVENT
BEGIN:VEVENT
DTSTART;TZID=Europe/Madrid:20260314T110000
DTEND;TZID=Europe/Madrid:20260315T140000
DTSTAMP:20260422T043045
CREATED:20260314T055124Z
LAST-MODIFIED:20260314T055928Z
UID:10002922-1773486000-1773583200@www.visitbocairent.es
SUMMARY:Visita combinada
DESCRIPTION:Visita combinada: Església + Campanar + Museu parroquial + Monestir Rupestre + MOCB\nVisita combinada: Iglesia + Campanario + Museo parroquial + Monasterio Rupestre +MOCB\nCombined Visit: Church + Bell Tower + Parish Museum + Cave Convent + MOCB\nVisite combinée : Église + Clocher + Musée Paroissial + Monastère du Rocher + MOCB
URL:https://www.visitbocairent.es/visita/visita-combinada-181/
LOCATION:Església Parroquial Ntra. Sra. de l’Assumpció\, C/ Abadia\, 38\, Bocairent\, Valencia\, 46880\, Espanya
ATTACH;FMTTYPE=image/jpeg:https://www.visitbocairent.es/wp-content/uploads/2022/11/combinada.jpg
ORGANIZER;CN="Parr%C3%B2quia%20de%20Bocairent":MAILTO:info@visitbocairent.es
GEO:38.76786068663;-0.60882914599734
X-APPLE-STRUCTURED-LOCATION;VALUE=URI;X-ADDRESS=Església Parroquial Ntra. Sra. de l’Assumpció C/ Abadia 38 Bocairent Valencia 46880 Espanya;X-APPLE-RADIUS=500;X-TITLE=C/ Abadia\, 38:geo:-0.60882914599734,38.76786068663
END:VEVENT
BEGIN:VEVENT
DTSTART;TZID=Europe/Madrid:20260314T120000
DTEND;TZID=Europe/Madrid:20260314T133000
DTSTAMP:20260422T043045
CREATED:20260314T063156Z
LAST-MODIFIED:20260314T063241Z
UID:10002996-1773489600-1773495000@www.visitbocairent.es
SUMMARY:Visita a l'Església\, Campanar i Museu Parroquial
DESCRIPTION:Visita Iglesia\, Campanario y Museo Parroquial / Visit the Church\, Bell Tower and Parish Museum / Visitez l’église\, le clocher et le musée paroissial
URL:https://www.visitbocairent.es/visita/visita-a-lesglesia-campanar-i-museu-parroquial-127/
LOCATION:Església Parroquial Ntra. Sra. de l’Assumpció\, C/ Abadia\, 38\, Bocairent\, Valencia\, 46880\, Espanya
ATTACH;FMTTYPE=image/jpeg:https://www.visitbocairent.es/wp-content/uploads/2023/01/esglesia-museu-campanar.jpg
ORGANIZER;CN="Parr%C3%B2quia%20de%20Bocairent":MAILTO:info@visitbocairent.es
GEO:38.76786068663;-0.60882914599734
X-APPLE-STRUCTURED-LOCATION;VALUE=URI;X-ADDRESS=Església Parroquial Ntra. Sra. de l’Assumpció C/ Abadia 38 Bocairent Valencia 46880 Espanya;X-APPLE-RADIUS=500;X-TITLE=C/ Abadia\, 38:geo:-0.60882914599734,38.76786068663
END:VEVENT
BEGIN:VEVENT
DTSTART;TZID=Europe/Madrid:20260314T120000
DTEND;TZID=Europe/Madrid:20260314T133000
DTSTAMP:20260422T043045
CREATED:20260314T065733Z
LAST-MODIFIED:20260314T065805Z
UID:10003018-1773489600-1773495000@www.visitbocairent.es
SUMMARY:Visita a l'Església i Campanar
DESCRIPTION:Visita Iglesia y Campanario / Visit Church and Bell Tower / Visite de l’église et du clocher
URL:https://www.visitbocairent.es/visita/visita-a-lesglesia-i-campanar-57/
LOCATION:Església Parroquial Ntra. Sra. de l’Assumpció\, C/ Abadia\, 38\, Bocairent\, Valencia\, 46880\, Espanya
ATTACH;FMTTYPE=image/png:https://www.visitbocairent.es/wp-content/uploads/2022/09/Esglesia-Assumpcio.png
ORGANIZER;CN="Parr%C3%B2quia%20de%20Bocairent":MAILTO:info@visitbocairent.es
GEO:38.76786068663;-0.60882914599734
X-APPLE-STRUCTURED-LOCATION;VALUE=URI;X-ADDRESS=Església Parroquial Ntra. Sra. de l’Assumpció C/ Abadia 38 Bocairent Valencia 46880 Espanya;X-APPLE-RADIUS=500;X-TITLE=C/ Abadia\, 38:geo:-0.60882914599734,38.76786068663
END:VEVENT
BEGIN:VEVENT
DTSTART;TZID=Europe/Madrid:20260315T110000
DTEND;TZID=Europe/Madrid:20260315T120000
DTSTAMP:20260422T043045
CREATED:20260315T071334Z
LAST-MODIFIED:20260315T071426Z
UID:10003072-1773572400-1773576000@www.visitbocairent.es
SUMMARY:Visita a l'ermita del Sant Crist
DESCRIPTION:Visita a la Ermita del Santo Cristo\nVisit to the Hermitage of Sant Crist\nVisite à l’Ermitage de Sant Crist
URL:https://www.visitbocairent.es/visita/visita-a-lermita-del-sant-crist-165/
LOCATION:Ermita del Sant Crist\, Bocairent\, Valencia\, 46880\, Espanya
ATTACH;FMTTYPE=image/png:https://www.visitbocairent.es/wp-content/uploads/2022/11/sant-crist-aerea-AB.png
ORGANIZER;CN="Parr%C3%B2quia%20de%20Bocairent":MAILTO:info@visitbocairent.es
GEO:38.77343976183;-0.6101910953465
END:VEVENT
BEGIN:VEVENT
DTSTART;TZID=Europe/Madrid:20260315T110000
DTEND;TZID=Europe/Madrid:20260315T133000
DTSTAMP:20260422T043045
CREATED:20260314T061732Z
LAST-MODIFIED:20260314T061813Z
UID:10002982-1773572400-1773581400@www.visitbocairent.es
SUMMARY:Vista al Monestir Rupestre
DESCRIPTION:Visita al Monasterio Rupestre / Visit to the Cave Convent / Visite du Monastère du Rocher
URL:https://www.visitbocairent.es/visita/vista-al-monestir-rupestre-2/
LOCATION:Monestir de Bocairent\, Carrer Julian Herrero Aleixandre\, 6\, Bocairent\, Valencia\, 46880
ATTACH;FMTTYPE=image/jpeg:https://www.visitbocairent.es/wp-content/uploads/2022/09/Monestir-Rupestre.jpg
ORGANIZER;CN="Parr%C3%B2quia%20de%20Bocairent":MAILTO:info@visitbocairent.es
GEO:38.766868399789;-0.61154875360899
X-APPLE-STRUCTURED-LOCATION;VALUE=URI;X-ADDRESS=Monestir de Bocairent Carrer Julian Herrero Aleixandre 6 Bocairent Valencia 46880;X-APPLE-RADIUS=500;X-TITLE=Carrer Julian Herrero Aleixandre\, 6:geo:-0.61154875360899,38.766868399789
END:VEVENT
BEGIN:VEVENT
DTSTART;TZID=Europe/Madrid:20260315T113000
DTEND;TZID=Europe/Madrid:20260315T133000
DTSTAMP:20260422T043045
CREATED:20260315T063717Z
LAST-MODIFIED:20260315T063814Z
UID:10003040-1773574200-1773581400@www.visitbocairent.es
SUMMARY:Visita al Museu d'Oficis i Costums de Bocairent
DESCRIPTION:Visita al Museo de Oficios y Costumbres (MOCB) \nVisit to the Trades and Customs Museum (MOCB)\nVisite du Musée des Métiers et des Coutumes (MOCB)
URL:https://www.visitbocairent.es/visita/visita-al-museu-doficis-i-costums-de-bocairent-228/
LOCATION:MOCB\, Carrer de l'Abadia\, 44B\, Bocairent\, Valencia\, 46880\, Espanya
ATTACH;FMTTYPE=image/jpeg:https://www.visitbocairent.es/wp-content/uploads/2022/10/Museu-Oficis.jpg
ORGANIZER;CN="Parr%C3%B2quia%20de%20Bocairent":MAILTO:info@visitbocairent.es
GEO:38.76773013433;-0.6090669694041
X-APPLE-STRUCTURED-LOCATION;VALUE=URI;X-ADDRESS=MOCB Carrer de l'Abadia 44B Bocairent Valencia 46880 Espanya;X-APPLE-RADIUS=500;X-TITLE=Carrer de l'Abadia\, 44B:geo:-0.6090669694041,38.76773013433
END:VEVENT
END:VCALENDAR